BEGIN:VCALENDAR
VERSION:2.0
PRODID:-//UNION OF ONTARIO INDIANS - ECPv6.15.20//NONSGML v1.0//EN
CALSCALE:GREGORIAN
METHOD:PUBLISH
X-ORIGINAL-URL:https://anishinabek.ca
X-WR-CALDESC:Events for UNION OF ONTARIO INDIANS
REFRESH-INTERVAL;VALUE=DURATION:PT1H
X-Robots-Tag:noindex
X-PUBLISHED-TTL:PT1H
BEGIN:VTIMEZONE
TZID:UTC
BEGIN:STANDARD
TZOFFSETFROM:+0000
TZOFFSETTO:+0000
TZNAME:UTC
DTSTART:20150101T000000
END:STANDARD
END:VTIMEZONE
BEGIN:VEVENT
DTSTART;TZID=UTC:20160730T100000
DTEND;TZID=UTC:20160801T190000
DTSTAMP:20260422T225103
CREATED:20160728T190528Z
LAST-MODIFIED:20160728T190528Z
UID:1157-1469872800-1470078000@anishinabek.ca
SUMMARY:56th Annual Cultural Festival - Wikwemikong Unceded Indian Reserve
DESCRIPTION:Location: Wikwemikong\, Ontario\, Manitoulin Island\, ON off Highway #6\, follow Wikwemikong Way to Thunderbird Park \nAddress: 18A Kaboni Rd “Thunderbird Park” \nSpecial Events:  Please visit website for updated information \nGates open 10 am  daily \nAdmission: Adults $10 daily or $20 weekend pass\, children (6 – 12 yrs) $2\, elders 65+ and children under 6 FREE \nDeclaration: This is an alcohol and substance free event.  Anishinaabe Vendors Only. 24 hour security. Wikwemikong Heritage Organization and the community of Wikwemikong is not responsible for accidents\, thefts\, or property damage.  No blanket dances will be accepted.  All presentation honorariums and registration fees are in Canadian currency. \nContact Information:  Toll Free: (877) 859-2385 \nWebsite: www.wikwemikongheritage.org
URL:https://anishinabek.ca/event/56th-annual-cultural-festival-wikwemikong-unceded-indian-reserve/
END:VEVENT
BEGIN:VEVENT
DTSTART;TZID=UTC:20160806T100000
DTEND;TZID=UTC:20160807T190000
DTSTAMP:20260422T225103
CREATED:20160728T190844Z
LAST-MODIFIED:20160728T190914Z
UID:1159-1470477600-1470596400@anishinabek.ca
SUMMARY:Michipicoten First Nation Annual Pow wow
DESCRIPTION:Location: Pow-wow Grounds\, Michipicoten\, ON \nGrand Entry: Sat 1pm and 7pm and Sun 1pm \nCraft Vendors fee: $100 per weekend and Food Vendors fee: $150 per weekend \nRough Camping is available \nPlease bring your own feast bags\, disposable dishes\, utensils not provided to keep mother earth clean. \nContacts: Linda Peterson @ lpeterson@michipicoten.com  1-705-856-1993 ext 218\, cell 1-705-971-8441. Txt and/or leave msg \nChris Wilson\, cwilson@michipcioten.com \, 1-705-856-1993\, ext 228\, cell 1-705-975-1036
URL:https://anishinabek.ca/event/michipicoten-first-nation-annual-pow-wow/
END:VEVENT
BEGIN:VEVENT
DTSTART;TZID=UTC:20160807T100000
DTEND;TZID=UTC:20160808T200000
DTSTAMP:20260422T225103
CREATED:20160728T190714Z
LAST-MODIFIED:20160728T190714Z
UID:1158-1470564000-1470686400@anishinabek.ca
SUMMARY:CHI POW WOW - Sudbury
DESCRIPTION:Location: Sudbury\, Ontario\, Canada \nLaurentian Community Track \n935 Ramsey Lake Road\, Sudbury\, Ontario \nGRAND ENTRIES: Sat. 12pm & 7pm Sun. 12pm \nElder: Gordan Waindubence \nM.C.s: Ryan McMahon & Chris Pheasant \nArena Director: Jordan Williams White Eye \nHost Drum: Stoney Park (Alberta\, Canada) \nHead Dancers: Selected at each grand entry. \nRegistration: 11am-2pm \nSpecials: \n~ Chicken Dance Special (Sponsored By: Geronimo Tootoosis 1st: $700\, 2nd: $500\, 3rd: $300 4th:$200) \n~ Woodland Special (Sponsored By: Beedkohom Stevens 1st:$500\, 2nd:$400\, 3rd:$300) \n~ Tiny Tot Special Sponsored By: Native Bebe ~ Many more specials…Hand Drum\, Potato Dance… \nVolunteer Event Planners: Crystal Osawamick at 705.923.4227 (Email:chipowwow@maawnjidmi.com) or \nDarren McGregor Email: nini_oshkaabewis@maawnjidmi.com \nFB: CHI POW WOW or Website: www.maawnjidmi.com
URL:https://anishinabek.ca/event/chi-pow-wow-sudbury/
END:VEVENT
BEGIN:VEVENT
DTSTART;TZID=UTC:20160820T100000
DTEND;TZID=UTC:20160821T190000
DTSTAMP:20260422T225103
CREATED:20160728T191052Z
LAST-MODIFIED:20160728T191052Z
UID:1160-1471687200-1471806000@anishinabek.ca
SUMMARY:Chippewas of the Thames Annual Competition Pow-wow
DESCRIPTION:Location: Chippewa Ball Park\, Muncey First Nation\, 640 Jubilee Rd.\, Muncey\, Ont.\, Located 25km SW of London\, Ontario; Off Hwy 2 Longwoods Rd.\, Exits on Hwy 402 Delaware\, Hwy 401 Iona Rd. \nGrand Entry:  SAT 12 pm & 6 pm; SUN at noon \nAdmission:  TBD \nDancers pay the admission rate. \nSpecial Declaration: No Drugs or Alcohol \nVendors: First Nations owned and operated vendors only. \nContact: Band Office 519-289-5555 \nWebsite: www.cottfn.ca
URL:https://anishinabek.ca/event/chippewas-of-the-thames-annual-competition-pow-wow/
END:VEVENT
BEGIN:VEVENT
DTSTART;TZID=UTC:20160820T100000
DTEND;TZID=UTC:20160821T190000
DTSTAMP:20260422T225103
CREATED:20160728T191217Z
LAST-MODIFIED:20160728T191217Z
UID:1161-1471687200-1471806000@anishinabek.ca
SUMMARY:Algonquins of Pikwakanagan Traditional Pow-wow
DESCRIPTION:Location: 2 km off Hwy 60.  Algonquins of Pikwakanagan First Nation\, Golden Lake\, ON \nGrand Entry: 12 noon on both days. \nRough camping available \nAdmission:  $6 ; 12 yrs under Free \nVendors: Craft Vendors: $125 \nContact: Jamie Sarazin (613) 625 – 1109 \nWebsite: algonquinsofpikwakanagan.ca
URL:https://anishinabek.ca/event/algonquins-of-pikwakanagan-traditional-pow-wow/
END:VEVENT
BEGIN:VEVENT
DTSTART;TZID=UTC:20160820T100000
DTEND;TZID=UTC:20160821T190000
DTSTAMP:20260422T225103
CREATED:20160728T191333Z
LAST-MODIFIED:20160728T191333Z
UID:1162-1471687200-1471806000@anishinabek.ca
SUMMARY:Annual Mattagami First Nation Pow-wow
DESCRIPTION:Theme: “Honouring our Warrior Spirit” \nLocation: Mattagami First Nation is located 2 1/2 hours North of Sudbury and 1 hour South of Timmins \nGrand Entry: Saturday 12pm & 7pm and Sunday at noon. \nFeast:  SAT at 5pm (Food Donations accepted) \nVendors Welcomed – please contact the facebook page for Information \nEveryone Welcomed to Attend \nDeclaration:  This is a drug and alcohol FREE gathering \nFree Rough Camping \nContact information: Jennifer\, 1-888-269-7729
URL:https://anishinabek.ca/event/annual-mattagami-first-nation-pow-wow/
END:VEVENT
BEGIN:VEVENT
DTSTART;TZID=UTC:20160820T100000
DTEND;TZID=UTC:20160821T190000
DTSTAMP:20260422T225103
CREATED:20160728T191454Z
LAST-MODIFIED:20160728T191454Z
UID:1163-1471687200-1471806000@anishinabek.ca
SUMMARY:Chippewas of Rama First Nation 31th Annual Pow-wow
DESCRIPTION:Competition dancing and singing \nTraditional arts\, foods and craft vendors \nLocation:  Pow-Wow Grounds\, 6030 Rama Rd. Rama\, Ontario \nDirections: from Toronto: Hwy 400N to Hwy 11N\, take exit 131 A (ON 12-S)\, Slight Right on Atherley Rd (ON 12-E)\, Left at Rama Rd. (County Rd 44) \nCost $10/day\, $15/weekend \nGrand Entry: Saturday 1pm and 6:30pm; Sunday 12:30pm \nMC’s: Vince Beyl and Chris Pheasant \nArena Director: Allan Manitowabi \nHead Veteran: Mel King \nContact: 705-325-3611 or email benc@ramafirstnation.ca
URL:https://anishinabek.ca/event/chippewas-of-rama-first-nation-31th-annual-pow-wow/
END:VEVENT
BEGIN:VEVENT
DTSTART;TZID=UTC:20160820T100000
DTEND;TZID=UTC:20160821T190000
DTSTAMP:20260422T225103
CREATED:20160728T191604Z
LAST-MODIFIED:20160728T191619Z
UID:1164-1471687200-1471806000@anishinabek.ca
SUMMARY:Whitefish River First Nation Annual Pow-Wow
DESCRIPTION:Location: Whitefish River First Nation Pow-wow Grounds\, Birch Island\, ON (signs to be posted) \nDirections: Located just off Hwy 6 – 7566 B Hwy 6.  Turn onto Sunshine Alley Rd.  Keep left at the first fork and keep right at the second fork \nGrand Entries: Saturday August 20th @ 12:00pm & 7:00pm; Sunday August 21st @ 12:00pm \nAdmission: Free \nVendors: Please call to register your booth \nEvents: Environmentally friendly traditional Pow-wow\, paper products please\, bring your feast bag \nDeclarations: Absolutely no Drugs\, A \nalcohol or Pets. Please Follow Pow-wow Protocol. Whitefish River Pow-Wow Committee NOT responsible for lost\, damaged or stolen personal property or other effects. \nContact: Vanessa McGregor at 705-285-4335
URL:https://anishinabek.ca/event/whitefish-river-first-nation-annual-pow-wow/
END:VEVENT
BEGIN:VEVENT
DTSTART;TZID=UTC:20160827T100000
DTEND;TZID=UTC:20160828T190000
DTSTAMP:20260422T225103
CREATED:20160728T191753Z
LAST-MODIFIED:20160728T191753Z
UID:1165-1472292000-1472410800@anishinabek.ca
SUMMARY:30th Annual Homecoming of the Three Fires Traditional Pow-wow
DESCRIPTION:Mississaugas of New Credit \nLocation: New Credit Indian Reserve\, R.R.#6\, Blue#2789 Mississauga Rd.\, Hagersville\, ON \nDirection: 2 km N of Hagersville; 40km S of Hamilton; Hwy #6 S\, W @ Haldiman 1st Line Road.  Watch for signs. \nGrand Entry: Sat. 1:00 & 7:00pm; Sun. 1:00pm \nFeast:  Traditional feast on Sunday 4:00 pm \nVendors: Craft Vending –Only allowing 30 vendors this year. Pre-registration is a MUST for craft vendors. $30/Day; $50/Weekend – Food Vendors by invitation only \nRough Camping \nAdmission: $5.00; 6 & under – Free; FREE parking \nDeclaration:  No Alcohol; No Drugs; Please Bring your own plates\, utensils and cups for the weekend. \nContact:  Faith 519-445-2283 \nEmail: info@firstnationsgathering.com \nWeb: www.newcreditpowwow.com
URL:https://anishinabek.ca/event/30th-annual-homecoming-of-the-three-fires-traditional-pow-wow/
END:VEVENT
BEGIN:VEVENT
DTSTART;TZID=UTC:20160827T100000
DTEND;TZID=UTC:20160828T190000
DTSTAMP:20260422T225103
CREATED:20160728T191856Z
LAST-MODIFIED:20160728T191856Z
UID:1166-1472292000-1472410800@anishinabek.ca
SUMMARY:20th Annual Zhiibaahaasing First Nation Pow-wow
DESCRIPTION:Location: Pow-wow grounds\, centre of the community\,Turn onto Sheshegwaning road follow all the way to Zhiibaahaasing First Nation. Home of the World’s Largest Peace Pipe\, Drum and Outdoor Dream Catcher. \nGrand Entry: Sat. 1:00 & 7:00 pm\, Sun. 12 pm \nFeast: Feast Saturday at 5 pm everyone welcome. Breakfast for all campers Saturday and Sunday 7:00 am. \nAdmission Fee: FREE \nVendor Fee: FREE – all donations would be greatly appreciated \nCamping:  Rough camping\, on-site showers available. \nSpecial Events/ Feature: Free Social Gathering Friday the 26th includes fish fry \nSpecial declarations: No Alcohol\, Drugs\, or Pets \nContact: Bobbi-Sue Kells-Riberdy at 705-283-3963
URL:https://anishinabek.ca/event/20th-annual-zhiibaahaasing-first-nation-pow-wow/
END:VEVENT
END:VCALENDAR