BEGIN:VCALENDAR
VERSION:2.0
PRODID:-//UNION OF ONTARIO INDIANS - ECPv6.15.20//NONSGML v1.0//EN
CALSCALE:GREGORIAN
METHOD:PUBLISH
X-WR-CALNAME:UNION OF ONTARIO INDIANS
X-ORIGINAL-URL:https://anishinabek.ca
X-WR-CALDESC:Events for UNION OF ONTARIO INDIANS
REFRESH-INTERVAL;VALUE=DURATION:PT1H
X-Robots-Tag:noindex
X-PUBLISHED-TTL:PT1H
BEGIN:VTIMEZONE
TZID:UTC
BEGIN:STANDARD
TZOFFSETFROM:+0000
TZOFFSETTO:+0000
TZNAME:UTC
DTSTART:20150101T000000
END:STANDARD
END:VTIMEZONE
BEGIN:VEVENT
DTSTART;TZID=UTC:20160901T080000
DTEND;TZID=UTC:20161031T230000
DTSTAMP:20260422T212204
CREATED:20160726T132956Z
LAST-MODIFIED:20160726T133030Z
UID:1106-1472716800-1477954800@anishinabek.ca
SUMMARY:Walk The Anishinabek Nation
DESCRIPTION:How many steps does it take to walk the Anishinabek Nation? It takes 5\,378\,736 steps. \nHow many steps will you take? Step up and take the “Walk the Anishinabek Nation” Challenge. \nRegister by August 20\, 2016\, receive your very own pedometer and start walking.  Its that easy! \nFirst 100 participants to register will receive a jacket. The more steps you take the more chances you have to win some great prizes. \nWho: Everyone is encouraged to participate. \nWhen: Begins on September 1\, 2016 and ends October 31\, 2016. \nWhere:  All across the Anishinabek Nation \nTo Register:  Complete the registration form and return by email\, fax or email to:  pepste@anishinabek.ca \nFax:  (705) 497-9135 \nUnion of Ontario Indians\, P.O. Box 711\, North Bay\, ON  P1B 8J8 \nFor more information\, please contact Stephanie Peplinskie at: (705) 497-9127 ext. 2224
URL:https://anishinabek.ca/event/walk-the-anishinabek-nation/
END:VEVENT
BEGIN:VEVENT
DTSTART;TZID=UTC:20160902T100000
DTEND;TZID=UTC:20160904T190000
DTSTAMP:20260422T212204
CREATED:20160728T192030Z
LAST-MODIFIED:20160728T192030Z
UID:1167-1472810400-1473015600@anishinabek.ca
SUMMARY:27th Annual N’bisiing Anishinabek Traditional Gathering
DESCRIPTION:27 Years Cultural Revival \nLocation:  Jocko Point Traditional Grounds\, Nipissing First Nation\, Ontario \nDirections: Travel on Hwy 17\, 13km E of Sturgeon Falls or 23km W of North Bay\, 7 km south on Jocko Point road. \nGrand Entry: 12:00 pm both days \nSunrise Ceremony:  7am Sept 1st\, 2nd\, 3rd\, and 4th \nFeast: Sat. 5:00 pm \nEvents: Talent Night FRI @ 6 pm – 10 pm \nRegistration:  Daily at 11 am \nVendor Fee: $75.00/day or $150.00 for two days. All Anishnaabe traders and vendors welcome \nSpecial Declarations: No alcohol\, drugs.  No pets. \nContact:  Jules Armstrong 705-753-2050 ext 1260 \nEmail: julesa@nfn.ca \nWebsite: www.nfnculture.ca
URL:https://anishinabek.ca/event/27th-annual-nbisiing-anishinabek-traditional-gathering/
END:VEVENT
BEGIN:VEVENT
DTSTART;TZID=UTC:20160910T100000
DTEND;TZID=UTC:20160911T190000
DTSTAMP:20260422T212204
CREATED:20160728T192220Z
LAST-MODIFIED:20160728T192220Z
UID:1168-1473501600-1473620400@anishinabek.ca
SUMMARY:6th Annual Georgian Bay Native Friendship Centre
DESCRIPTION:Georgian Bay Native Friendship Centre \nLocation:Sainte-Marie Park\, Off Hwy 12 & Wye Valley Road\, Midland \nDescription: Eagle staffs and flags will be presented with the entry of the dancers with the circle. The Flag song\, Veteran’s song\, Opening Prayer\, and Welcome happens at this time. \nThe order of drums and dances is set by the Master of Ceremonies and the Arena Director. The dancing continues throughout the day until approximately 4:30 p.m.\, when all will break for Feast. Throughout thePow-wow types of Native dances will include Men’s Traditional\, Woman’s Traditional\, Men’s Grass\, Women’s Jingle Dress\, Women’s Fancy Shawl\, and Tiny Tots. In addition\, Intertribal dances will be called\, where everyone is invited to participate in the dance circle.More than 35 vendors and artisans will be on site exhibiting and selling their crafts\, jewellery\, and foods. \nGrand Entry: 12:00 pm and 5:30 p.m. on Saturday\, and 12 p.m. on Sunday. \nAdmission: $5.00; Children Under 10 – Free \nContact: Sainte Marie among the Hurons \nWebsite: http://www.saintemarieamongthehurons.on.ca \nPhone: 705-526-5589
URL:https://anishinabek.ca/event/6th-annual-georgian-bay-native-friendship-centre/
END:VEVENT
BEGIN:VEVENT
DTSTART;TZID=UTC:20160917T100000
DTEND;TZID=UTC:20160918T190000
DTSTAMP:20260422T212204
CREATED:20160728T192606Z
LAST-MODIFIED:20160728T192606Z
UID:1170-1474106400-1474225200@anishinabek.ca
SUMMARY:Curve Lake First Nation Traditional Pow-wow
DESCRIPTION:Location: Lance Woods Park\, Curve Lake First Nation\, Curve Lake\, ON \nDirections:  Hwy 401 to hwy 115; hwy 115 to Fowler’s Corners off ramp; turn right at Fowler’s Corners\, follow to end\, turn left\, straight through Bridgenorth to 4 way stop; turn left and follow to Curve Lake road.  There will be powwow signs. \nSunrise Ceremony both days \nGrand Entry: Both days at 12:00 pm \nAdmission: $8.00 for ages 13 – 59 and $5.00 for ages 6 – 12 or seniors 60+ \nEvents: Come join us at our annual Pow-wow! Enjoy traditional foods\, dances\, songs and stories! \nSpecial Declarations:  No alcohol\, no drugs\, no pets (not even the kind that you can carry) NO EXCEPTIONS \nVERY LIMITED camping available.  Camping is for drummers\, dancers\, Elders first\, then vendors. \nVendors:  Contact Anne for vendor packages\, directions\, etc. vendor priority will be given to Canadian First Nations \nContact: Anne Taylor or Tracey at 705-657-2758 for more information \nEmail: AnneT@curvelake.ca \nWebsite: www.curvelakefirstnation.ca/Pow-wow.html
URL:https://anishinabek.ca/event/curve-lake-first-nation-traditional-pow-wow/
END:VEVENT
BEGIN:VEVENT
DTSTART;TZID=UTC:20160924T060000
DTEND;TZID=UTC:20160924T190000
DTSTAMP:20260422T212204
CREATED:20160728T192846Z
LAST-MODIFIED:20160728T192846Z
UID:1171-1474696800-1474743600@anishinabek.ca
SUMMARY:19th Annual Community Pow Wow - Native Child and Family Services of Toronto
DESCRIPTION:Reconciliation: Our Children’s Future \nLocation: Dufferin Grove Park\, 875 Dufferin Avenue\, Toronto\, Ontario \nAll Dancers welcome\, Children’s activities available \nSunrise Ceremony: 6 a.m. \nGrand Entry: 12:00 p.m. \nFree Admission \nVendors Welcome: $50.00 Fee \nInformation Contact: Kelly Hashem at khashemi@nativechild.org or phone 416-969-8510 ext. 3472
URL:https://anishinabek.ca/event/19th-annual-community-pow-wow-native-child-and-family-services-of-toronto/
END:VEVENT
BEGIN:VEVENT
DTSTART;TZID=UTC:20160924T100000
DTEND;TZID=UTC:20160925T190000
DTSTAMP:20260422T212204
CREATED:20160728T192405Z
LAST-MODIFIED:20160728T192405Z
UID:1169-1474711200-1474830000@anishinabek.ca
SUMMARY:Chippewas of Georgina Island Pow Wow
DESCRIPTION:Chippewas of Georgina Island Pow Wow \nTheme “Honouring the Gifts of Our Children” \nLocation: Sibbald Point Provincial Park\, 26071 Park Road\, Sutton West\, Ontario L0E 1R0 \n(this is not located on the First Nation) \nHonorariums and group camping provided for all registered dancers and drummers \nContact information: Lauri Williamson 705-437-1337 x2236 lauri.williamson@georginaisland.com \nPark information www.ontarioparks.com/park/sibbaldpoint
URL:https://anishinabek.ca/event/chippewas-of-georgina-island-pow-wow/
END:VEVENT
END:VCALENDAR