BEGIN:VCALENDAR
VERSION:2.0
PRODID:-//UNION OF ONTARIO INDIANS - ECPv6.15.20//NONSGML v1.0//EN
CALSCALE:GREGORIAN
METHOD:PUBLISH
X-WR-CALNAME:UNION OF ONTARIO INDIANS
X-ORIGINAL-URL:https://anishinabek.ca
X-WR-CALDESC:Events for UNION OF ONTARIO INDIANS
REFRESH-INTERVAL;VALUE=DURATION:PT1H
X-Robots-Tag:noindex
X-PUBLISHED-TTL:PT1H
BEGIN:VTIMEZONE
TZID:UTC
BEGIN:STANDARD
TZOFFSETFROM:+0000
TZOFFSETTO:+0000
TZNAME:UTC
DTSTART:20160101T000000
END:STANDARD
END:VTIMEZONE
BEGIN:VEVENT
DTSTART;TZID=UTC:20170508T080000
DTEND;TZID=UTC:20170511T170000
DTSTAMP:20260422T092600
CREATED:20170420T191203Z
LAST-MODIFIED:20170420T191926Z
UID:1652-1494230400-1494522000@anishinabek.ca
SUMMARY:Taking Care of Our Land Symposium
DESCRIPTION:The Anishinaabe Initiatives Division (AID) and the Department of Geography and Geology at Algoma University are hosting the second bi-annual \n“Gdo Akiiminaan Ganawendandaan” (Taking Care of our Land) symposium\n\n\nfrom May 8 – 11\, 2017 \nat the Delta Hotels by Marriot in Sault Ste. Marie. \nThis year’s theme is Reconciliation. \nThe purpose of this symposium is to begin exploring the inclusion of cultural and traditional practices of land management\, planning\, and use for Aboriginal communities in Northern Ontario. The symposium will create opportunities for Indigenous and non-Indigenous scholars\, as well as traditional knowledge keepers\, to engage in dialogue about Indigenous thought while providing mentorship for students who are in the early stages of their engagement with research. The symposium aspires to foster a supportive learning community inclusive of all participants. \n“There is a need to have more opportunities for the Aboriginal communities in Northern Ontario dealing with land issues. The symposium provides for the opportunity for presenters to come together and share their experiences\, knowledge\, and skills about the initiatives/projects they have completed\, are in the process of completing or are in the planning and development stage\,” said Judy Syrette\, the Director of the Anishinaabe Initiatives Division. \nThe symposium will feature four keynote speakers\, including: \nDeborah McGregor\, Canada Research Chair in Indigenous Environmental Justice \nMaria Swain of Grassy Narrows First Nation \nlawyer Sharon Venne \nand Don Burnstick\, who will be this year’s comedic banquet speaker. \nSymposium presenters’ topics will focus on all areas of land stewardship. Presentations will include academic papers\, posters\, workshops\, learning circles\, and panel discussions. \nA pre-conference workshop will be held on May 8th from 9:00am – 4:00pm with The Firelight Group\, titled “Community Involvement in IBAs and Protecting your Heritage with GIS Work”. \nTo register or to find out more about the presenters\, please visit the symposium webpages. Registration for the symposium closes on May 2nd. The symposium is open to the public. \nFor more information on the symposium\, please contact Cheryl Jamieson at cheryl.jamieson@algomau.ca.
URL:https://anishinabek.ca/event/taking-care-of-our-land-symposium/
END:VEVENT
BEGIN:VEVENT
DTSTART;TZID=UTC:20170509T110000
DTEND;TZID=UTC:20170509T140000
DTSTAMP:20260422T092600
CREATED:20170504T175831Z
LAST-MODIFIED:20170504T180028Z
UID:1697-1494327600-1494338400@anishinabek.ca
SUMMARY:HIV/Hepatitis C Testing Event - Magnetawan
DESCRIPTION:Magnetawan First Nation\nHealth Centre\n10 Hwy 529 – Britt\, ON \nTuesday\, May 9\, 2017 \n11:00 a.m. – 2:00 p.m. \nKNOW YOUR STATUS \nGet tested – learn your options. \nCHANCE TO WIN A 40″ TV! \nGAMES\, PRIZES\, FOOD! \n  \n  \n  \nLaura Liberty\, Nahwegaabo Kwe\, Waabizhayshii ndoodem \nHIV/AIDS Coordinator for Anishinabek Nation/Union of Ontario Indians will have a info booth at the event.
URL:https://anishinabek.ca/event/1697/
END:VEVENT
BEGIN:VEVENT
DTSTART;TZID=UTC:20170509T160000
DTEND;TZID=UTC:20170509T190000
DTSTAMP:20260422T092600
CREATED:20170504T174830Z
LAST-MODIFIED:20170504T180217Z
UID:1692-1494345600-1494356400@anishinabek.ca
SUMMARY:HIV/Hepatitis C Testing Event - Wasauksing
DESCRIPTION:Wasauksing First Nation\nThe Seniors Drop-In Centre\nTuesday\, May 9\, 2017 \n4:00 p.m. to 7:00 p.m. \nKNOW YOUR STATUS \nGet tested – learn your options. \n\nCHANCE TO WIN A 40″ TV! \nGAMES\, PRIZES\, FOOD! \n \n  \nLaura Liberty\, Nahwegaabo Kwe\, Waabizhayshii ndoodem \nHIV/AIDS Coordinator for Anishinabek Nation/Union of Ontario Indians will have a info booth at the event.
URL:https://anishinabek.ca/event/hivhepatitis-c-testing-event-wasauksing/
END:VEVENT
BEGIN:VEVENT
DTSTART;TZID=UTC:20170513T120000
DTEND;TZID=UTC:20170514T180000
DTSTAMP:20260422T092600
CREATED:20170426T194009Z
LAST-MODIFIED:20170426T194108Z
UID:1670-1494676800-1494784800@anishinabek.ca
SUMMARY:Innovation in Education for Reconciliation
DESCRIPTION:Location: Pierre Elliot Trudeau School Grounds \n2 rue Millar\, Gatineau (Hull) Qc \nHost Drum: Ottawa River \nCo host Drum: Eagle River \nFree Admission (Donations welcome) \nGrand Entry 12 pm \n  \nVendor contact: Aisha Thomas 613-401-6370 \nEmail: athomas@wqsb.qc.ca
URL:https://anishinabek.ca/event/innovation-in-education-for-reconciliation/
END:VEVENT
BEGIN:VEVENT
DTSTART;TZID=UTC:20170520T120000
DTEND;TZID=UTC:20170521T170000
DTSTAMP:20260422T092600
CREATED:20170426T194359Z
LAST-MODIFIED:20170426T194359Z
UID:1672-1495281600-1495386000@anishinabek.ca
SUMMARY:Hiawatha First Nation 23nd Annual Pow-wow
DESCRIPTION:GREAT FUN FOR ALL THE FAMILY!!\nA Cultural Celebration of Drumming\, Regalia Dancing\, Crafts & Foods\nLocation: Lakeview Ceremonial Grounds\, Paudash St.  Hiawatha First Nation \nAdmission: 7-12 $3.00; 13-59 $6.00; Children 6 and under as well as Seniors are Free \nFirst 5 Drums to register receive an honorarium \nGrand Entry: 12 pm \nDrug and Alcohol Free Event \n  \nMore Details at www.hiawathafirstnation.com
URL:https://anishinabek.ca/event/hiawatha-first-nation-23nd-annual-pow-wow/
END:VEVENT
BEGIN:VEVENT
DTSTART;VALUE=DATE:20170524
DTEND;VALUE=DATE:20170529
DTSTAMP:20260422T092600
CREATED:20170504T183412Z
LAST-MODIFIED:20170504T183412Z
UID:1705-1495584000-1496015999@anishinabek.ca
SUMMARY:Spring Fast Camp
DESCRIPTION:Whitefish River First Nation (Dreamer’s Rock)\nPow Wow Grounds (located off Hwy. 6)\nPlease call to register in advance. \nReasons for going on a fast: When you choose to go on a fast\, it is with a purpose in mind. You may go out to seek direction in your life or you may go out to learn more about our ways and about Creation.  You may fast for your spirit name or colours. You may fast for many other reasons. Whatever the reason for you fast\, you prepare beforehand through prayer and tobacco. \nFor more information or to state your intentions\, please contact: \nPerry Mcleod-Shabogesic   petryms@skhc.ca   705-675-1596 Ext. 226 \nGeesohns Manitowabi   gmanitowabi@skhc.ca   705-675-1596 Ext. 232 \nCandice Jacko-Assiniwe   candicea@whitefishriver.ca   705-285-4354
URL:https://anishinabek.ca/event/spring-fast-camp/
END:VEVENT
BEGIN:VEVENT
DTSTART;TZID=UTC:20170524T100000
DTEND;TZID=UTC:20170524T150000
DTSTAMP:20260422T092600
CREATED:20170426T194554Z
LAST-MODIFIED:20170426T194743Z
UID:1674-1495620000-1495638000@anishinabek.ca
SUMMARY:Mountain View School Division 6th Annual Graduation Pow-wow
DESCRIPTION:Location: Dauphin Regional Comprehensive Secondary School gymnasium – 330 Mountain Rd. \nDauphin\, Manitoba \nEveryone welcome \nGrand Entry: 10:00 am \nContact: Wade Houle (204) 638 – 4629 \n  \nEmail: WHoule@mvsd.ca
URL:https://anishinabek.ca/event/mountain-view-school-division-6th-annual-graduation-pow-wow/
END:VEVENT
BEGIN:VEVENT
DTSTART;TZID=UTC:20170527T080000
DTEND;TZID=UTC:20170528T170000
DTSTAMP:20260422T092600
CREATED:20170426T195019Z
LAST-MODIFIED:20170426T195019Z
UID:1676-1495872000-1495990800@anishinabek.ca
SUMMARY:40th Annual Odawa Sweetgrass Pow wow
DESCRIPTION:Location: 200 Moodie Dr. Ottawa \nGrand Entry: 12 pm \nFree Admission \nHonorarium for Dancers and Singers will be provided \n  \nFor Vendor inquires contact info@odawa.on.ca or call: (613)722-3811 \nWebsite: http://www.odawa.on.ca/powwow.html \n 
URL:https://anishinabek.ca/event/40th-annual-odawa-sweetgrass-pow-wow/
END:VEVENT
BEGIN:VEVENT
DTSTART;TZID=UTC:20170527T080000
DTEND;TZID=UTC:20170528T170000
DTSTAMP:20260422T092600
CREATED:20170426T195326Z
LAST-MODIFIED:20170426T195541Z
UID:1678-1495872000-1495990800@anishinabek.ca
SUMMARY:30th Annual Upper Mattaponi Indian Tribe Pow wow
DESCRIPTION:Location: Tribal Grounds\, Rt. 30 King William V.A. – 13476 King William Rd \nAdmission: 6-12 $5; 13-59 $8 \nGrounds open: 10 am \nGrand Entry: Sat 12 pm; Sun 12 pm \nDrum Competition (5 drummers minimum to compete) and Dance Competitions \nFood Concessions over 20 vendors \nDeclarations: NO Drugs\, NO alcohol\, NO Pets and NO Coolers \n  \nContact: Joey Adams (804)400 – 6164 or Frank Adams (804)690-1694 \nWebsite: www.uppermattaponipowwow.com \n 
URL:https://anishinabek.ca/event/30th-annual-upper-mattaponi-indian-tribe-pow-wow/
END:VEVENT
BEGIN:VEVENT
DTSTART;TZID=UTC:20170529T090000
DTEND;TZID=UTC:20170530T110000
DTSTAMP:20260422T092600
CREATED:20170523T163538Z
LAST-MODIFIED:20170523T163727Z
UID:1735-1496048400-1496142000@anishinabek.ca
SUMMARY:Water Walk Ceremony “It’s Time”
DESCRIPTION:Constance Lake First Nation\nMamawmatawa Holistic Education Centre\nMonday\, May 29\, 2017 – 9:00 a.m.\nBlessings of our Water – We will be blessing our Water of Constance Lake First Nation. Students\, Teachers & Staff will be heading down to our Lake to give Blessings to our “Water.” \n  \nTuesday\, May 30\, 2017 – 9:00 p.m.\n\nHigh School Students\, Teachers & Staff will begin from Kabina Bridge to be completed at Eagles Earth!  Saamaa (tobacco) will be offered to our Rivers & Creeks along the way as we walk. We will be carrying posters with us. Songs to be sung! \nNishnawbe-Aski Police Service\, Ontario Provincial Police & Provincial Liaison Team will be joining us! \nThere will be volunteer’s drivers who will be carrying Water Bottles & Snacks! \nCommunity members who are interested are welcome to join us! \n  \nFor more information\, please contact Florrie Sutherland @ 705-463-1199 ext: 119.  Leave a message if you are not able to reach me. \n  \n(Time on calendar is approximately.  It is held on both days at the same time both days)
URL:https://anishinabek.ca/event/water-walk-ceremony-its-time/
END:VEVENT
BEGIN:VEVENT
DTSTART;TZID=UTC:20170529T100000
DTEND;TZID=UTC:20170529T140000
DTSTAMP:20260422T092600
CREATED:20170503T195513Z
LAST-MODIFIED:20170504T191609Z
UID:1690-1496052000-1496066400@anishinabek.ca
SUMMARY:SEVEN GENERATIONS Niizhwaaching Waa-aanikesidooying Bmaadziwin
DESCRIPTION:PARRY SOUND HIGH SCHOOL ANNUAL POW WOW\nFriday\, May 29\, 2017 \nGrand Entry at 10:00 a.m. \nMC: Ryan McMahon \nPlease bring a chair or blanket to sit on as we are out on the field this year! \nContact johna.hupfield@nearnorthschools.ca for more information. \nLaura Liberty\, Nahwegaabo Kwe\, Waabizhayshii ndoodem \nHIV/AIDS Coordinator at the Anishinabek Nation/Union of Ontario Indians will be setting up an information booth at the event.
URL:https://anishinabek.ca/event/seven-generations-niizhwaaching-waa-aanikesidooying-bmaadziwin/
END:VEVENT
BEGIN:VEVENT
DTSTART;TZID=UTC:20170531T103000
DTEND;TZID=UTC:20170531T150000
DTSTAMP:20260422T092600
CREATED:20170410T171606Z
LAST-MODIFIED:20170410T171606Z
UID:1630-1496226600-1496242800@anishinabek.ca
SUMMARY:Ban Herbicide Use in Forest Management
DESCRIPTION:Ban Herbicide Use in Forest Management\nA respectful and meaningful consultation with the First Nations\nTEK Elders calling out to the Anishinabek of the Robinson Huron Treaty and residents of the North Shore Region \nPeaceful Demonstration\nWednesday\, May 31\, 2017\nOpening ceremony at 10:30 a.m.\nClosing prayer at 3:00 p.m.\nQueens’s Park\, South Lawn\, Toronto\, ON\nMCEE: Robert Stoneypoint\, Sagamok First Nation \nTraditional regalia is encouraged. \nActivities include: guest speakers\, garndfather drum\, hand drums\, dancing and open mic. \nElders and youth are encouraged to share their voices. \n  \ncookyowl@hotmail.com   705-507-2729 \ntekelders.weebly.com \n  \n 
URL:https://anishinabek.ca/event/ban-herbicide-use-in-forest-management/
END:VEVENT
END:VCALENDAR