BEGIN:VCALENDAR
VERSION:2.0
PRODID:-//UNION OF ONTARIO INDIANS - ECPv6.15.20//NONSGML v1.0//EN
CALSCALE:GREGORIAN
METHOD:PUBLISH
X-WR-CALNAME:UNION OF ONTARIO INDIANS
X-ORIGINAL-URL:https://anishinabek.ca
X-WR-CALDESC:Events for UNION OF ONTARIO INDIANS
REFRESH-INTERVAL;VALUE=DURATION:PT1H
X-Robots-Tag:noindex
X-PUBLISHED-TTL:PT1H
BEGIN:VTIMEZONE
TZID:UTC
BEGIN:STANDARD
TZOFFSETFROM:+0000
TZOFFSETTO:+0000
TZNAME:UTC
DTSTART:20160101T000000
END:STANDARD
END:VTIMEZONE
BEGIN:VEVENT
DTSTART;TZID=UTC:20170602T100000
DTEND;TZID=UTC:20170602T130000
DTSTAMP:20260422T074937
CREATED:20170426T195915Z
LAST-MODIFIED:20170426T195935Z
UID:1680-1496397600-1496408400@anishinabek.ca
SUMMARY:Chippewas of the Thames Annual Children’s Pow-wow
DESCRIPTION:Location: Antler River Elementary School\, 324 Chippewa Rd \nGrand Entry:  Friday at 10 am \nAdmission: $2/person \nHost/Co-host drum: TBA \nSpecial Declaration: No Drugs or Alcohol \nVendors: First Nations owned and operated vendors only. \nContact: Band Office 519-289-1000 \n  \n(Take note – completed time is estimate as we did not receive the end time – Anishinabek Nation)
URL:https://anishinabek.ca/event/chippewas-of-the-thames-annual-childrens-pow-wow/
END:VEVENT
BEGIN:VEVENT
DTSTART;VALUE=DATE:20170603
DTEND;VALUE=DATE:20170605
DTSTAMP:20260422T074937
CREATED:20170426T200143Z
LAST-MODIFIED:20170426T200143Z
UID:1682-1496448000-1496620799@anishinabek.ca
SUMMARY:Embracing the Seven Grandfather Teachings
DESCRIPTION:June 3 – 4 \nAundeck Omni Kaning Annual Traditional Pow-wow  \nLocation: Located on the beautiful shores of the North Channel on Manitoulin Island\, 5 minutes west of Little Current on Hwy 540\, turn on Lake Road \nHost Drum: Young Biisineh \nRough Camping available (must be 18+ for campsite registeration) \nContact: Mandy Shawanda (705) 368 – 0739 ext 1 during business hours\, leave message \nWebsite: www.aundeckomnikaningfn.com
URL:https://anishinabek.ca/event/embracing-the-seven-grandfather-teachings/
END:VEVENT
BEGIN:VEVENT
DTSTART;TZID=UTC:20170605T080000
DTEND;TZID=UTC:20170607T160000
DTSTAMP:20260422T074937
CREATED:20170529T181740Z
LAST-MODIFIED:20170529T181934Z
UID:1737-1496649600-1496851200@anishinabek.ca
SUMMARY:2017 Grand Council Assembly
DESCRIPTION:2017 Grand Council Assembly\n“ka mnaadendanaa gaabi zhiwebag miinwaa nango megwaa ezhwebag\nmiinwaa geyaabi waa ni zhiwebag”\n“Honouring our Past\, Present and Future`\nAamjiwnaang Community Centre\nJune 5\, 6\, 7\, 2017\nDraft Agenda for the Assembly can be seen HERE. \nThe public is welcome to attend.
URL:https://anishinabek.ca/event/2017-grand-council-assembly/
END:VEVENT
BEGIN:VEVENT
DTSTART;TZID=UTC:20170610T120000
DTEND;TZID=UTC:20170611T170000
DTSTAMP:20260422T074937
CREATED:20170426T193507Z
LAST-MODIFIED:20170426T193755Z
UID:1667-1497096000-1497200400@anishinabek.ca
SUMMARY:North Bay Indian Friendship Centre's Maamwi Kindaaswin Pow Wow Celebration
DESCRIPTION:“Honoring Our Grandmothers”\nLocation: Lee Park. 800 Memorial Dr. North Bay \nGrand-Entry: Saturday: 12 pm & 7 pm; Sunday: 12pm \nHost drum: Otterhead Singers \nCo-host drum: Moose Bay \nMaster of Ceremony: Gary Dokis \nArena Director: Roger Assiniwe \nHead Elders: Richard Assinewai \nHead Veteran: Philip Moore \nAdult Male Dancer: MckenzieOttereyes-Eagle \nAdult Female Dancer: Amanda Bellefeuille \nYouth Male Dancer: Shkaabewis Tabobondung \nYouth Female Dancer: Summer Fisher \nChild Male Dancer: Seth Sutherland \nChild Female Dancer: Sadie Turner \n\nDaily Honorariums for registered Dancers-First 4 Registered Drums will receive an Honorarium of $500 (minimum 5 Singers) \nEveryone Welcome-Bring a chair! \nDRUG & ALCOHOL FREE EVENT-Designated Smoking Area- NO Pets! \nWater Stations will be available – Bring your own bottle! \nMaamwi Kindaaswin Festival will not be responsible for injuries\, theft\, damages\, or any other liability associated with the festival. \nPlease be advise there is no camping at the Pow Wow Grounds. \nVendors:  Authentic Native Craft Vendors ONLY & Food Vendors- Please 705-472-2811. Simon ext. 220 or Serena ext. 227 \nAdmission:  FREE Event \n  \nContact:  Jen Seguin at 705-472-2811 ext.222 or Dan Desrochers at ext.216 \nEmails:  akwego2@nbifc.org or kizaay@nbifc.org
URL:https://anishinabek.ca/event/north-bay-indian-friendship-centres-maamwi-kindaaswin-pow-wow-celebration/
END:VEVENT
BEGIN:VEVENT
DTSTART;TZID=UTC:20170615T090000
DTEND;TZID=UTC:20170615T200000
DTSTAMP:20260422T074937
CREATED:20170328T152849Z
LAST-MODIFIED:20170328T152849Z
UID:1604-1497517200-1497556800@anishinabek.ca
SUMMARY:19th Annual Anishinabek Veterans Memorial Golf Tournament
DESCRIPTION:A Charity Golf Tournament benefiting Anishinabek Communities and Citizens. \nThursday\, June 15\, 2017 \nat The Mark O’Mears Course at Grandview Golf Club \nHuntsville Ontario. \nNeed information or wish to register – http://www.an7gc.ca/annual-gold-tournament.asp
URL:https://anishinabek.ca/event/19th-annual-anishinabek-veterans-memorial-golf-tournament/
END:VEVENT
BEGIN:VEVENT
DTSTART;VALUE=DATE:20170616
DTEND;VALUE=DATE:20170617
DTSTAMP:20260422T074937
CREATED:20170328T154646Z
LAST-MODIFIED:20170328T154646Z
UID:1612-1497571200-1497657599@anishinabek.ca
SUMMARY:Anishinabek Student Excellence Awards (deadline)
DESCRIPTION:part of the 19th Annual \nAnishinabek Evening of Excellence\non Wednesday\, August 16\, 2017 at \nCasino Rama – Silvernightingale Ballroom. \nDEADLINE for scholarship applications is Friday\, June 16\, 2017\nFor eligibility requirements and to apply\, visit the AN7GC website at \nhttp://www.an7gc.ca/evening-of-excellence.asp
URL:https://anishinabek.ca/event/anishinabek-student-excellence-awards-deadline/
END:VEVENT
BEGIN:VEVENT
DTSTART;TZID=UTC:20170622T060000
DTEND;TZID=UTC:20170622T200000
DTSTAMP:20260422T074937
CREATED:20170418T191420Z
LAST-MODIFIED:20170418T191420Z
UID:1641-1498111200-1498161600@anishinabek.ca
SUMMARY:Ki-nn Maam-wi Dun-kwesh-kwa-daad-wok Be-maa-di-zi-jik
DESCRIPTION:BRINGING THE PEOPLE TOGETHER\nThursday\, June 22\, 2017\nDowntown Killarney\n6:00 a.m. to 7:30 a.m – Sunrise Ceremony \n9:00 a.m. to 11:00 a.m. – Department Presentations \n9:00 a.m. to 11:00 a.m. – Treaty & Wampum Belt Teachings \n1:00 p.m. to 4:00 p.m. – Mini Social Pow Wow \n4:00 p.m. to 5:00 p.m. – Debajemugig Theatre Group \n5:00 p.m. to 8:00 p.m. – Native Country Hall of Fame Showcase \n\n \n  \n 
URL:https://anishinabek.ca/event/ki-nn-maam-wi-dun-kwesh-kwa-daad-wok-be-maa-di-zi-jik/
END:VEVENT
BEGIN:VEVENT
DTSTART;TZID=UTC:20170629T080000
DTEND;TZID=UTC:20170713T170000
DTSTAMP:20260422T074937
CREATED:20170629T181143Z
LAST-MODIFIED:20170629T181143Z
UID:1774-1498723200-1499965200@anishinabek.ca
SUMMARY:Early Years Central Gathering
DESCRIPTION:DATE:  July 12 & 13\, 2017\n \nGathering location:  Sault Ste. Marie\, ON \nThe Journey Together – Early Years Commitment \n\nOn May 30\, 2016\, the provincial government released the Journey Together: Ontario’s Commitment to Reconciliation with Indigenous peoples\, which sets out Ontario’s plan for responding to the Truth and Reconciliation Commission’s Calls to Action\nAs part of the plan\, the Ministry of Education has committed to invest up to $23.5M over the next two years for new and enhanced child and family programs on reserve\, with up to $12M in ongoing annual operating funding beginning in 2018-19\nThe Anishinabek Nation will be working with member communities over the course of the summer to identify early years needs and to develop proposals for provincially-funded child and family programs\nThe Early Years Central Gathering will provide an opportunity for communities to learn more about the initiative from the Ministry of Education and to begin providing input on early years needs and priorities\nConsultants will be present to gather information on community needs\, engage communities and to provide support to communities in developing proposals for future child and family programs\nDetails of the Early Years commitment can be found in the Closing the Gaps sections of the following:\n\nontario.ca/page/journey-together-ontarios-commitment-reconciliation-indigenous-peoples\nhttps://www.ontario.ca/page/journey-together-one-year-report\n\n\n\nRecommended to attend are:\nEducation Directors\, Health Directors\, Social Directors\, Daycare/Childcare Supervisors and Managers \nAnishinabek Nation/UOI will cover 1 representative from each community to attend this presentation. Travel and meals will be reimbursed and accommodations will be covered. \nFor further details\, please contact Dan Truchon at d.truchon@anishinabek.ca
URL:https://anishinabek.ca/event/early-years-central-gathering/
END:VEVENT
END:VCALENDAR