BEGIN:VCALENDAR
VERSION:2.0
PRODID:-//UNION OF ONTARIO INDIANS - ECPv6.15.20//NONSGML v1.0//EN
CALSCALE:GREGORIAN
METHOD:PUBLISH
X-WR-CALNAME:UNION OF ONTARIO INDIANS
X-ORIGINAL-URL:https://anishinabek.ca
X-WR-CALDESC:Events for UNION OF ONTARIO INDIANS
REFRESH-INTERVAL;VALUE=DURATION:PT1H
X-Robots-Tag:noindex
X-PUBLISHED-TTL:PT1H
BEGIN:VTIMEZONE
TZID:UTC
BEGIN:STANDARD
TZOFFSETFROM:+0000
TZOFFSETTO:+0000
TZNAME:UTC
DTSTART:20160101T000000
END:STANDARD
END:VTIMEZONE
BEGIN:VEVENT
DTSTART;VALUE=DATE:20170901
DTEND;VALUE=DATE:20170902
DTSTAMP:20260422T025904
CREATED:20170328T153531Z
LAST-MODIFIED:20170328T155654Z
UID:1606-1504224000-1504310399@anishinabek.ca
SUMMARY:First Nation Child Welfare Advocacy Program
DESCRIPTION:This accredited Certificate Program is offered at Anishinabek Educational Institute. \nSTART DATE: September 2017. \nOverview: The post diploma program prepares individuals for the role of advocate or band representative on behalf of a First Nation\, chile and/or family in relation to child protection matters. \nProvisions under the Child and Family Service Act state taht it is an Aboriginal child’s right to have a family’s Aboriginal culture and heritage take into account when advocating for the child. \nPlease see AEI’s website for more detailed program information at http://www.aeipostsecondary.ca/child-welfare-program-description.asp \nAPPLY TODAY – There is NO FEE TO APPLY.  You can find the application form on the AEI website. \n  \nAEI offers other programming as well.  Please take the time to look through our website.\nView our promo video at https://www.youtube.com/watch?v=5kO9zF9Qy2c&feature=youtu.be
URL:https://anishinabek.ca/event/first-nation-child-welfare-advocacy-program/
END:VEVENT
BEGIN:VEVENT
DTSTART;TZID=UTC:20170902T070000
DTEND;TZID=UTC:20170903T200000
DTSTAMP:20260422T025904
CREATED:20170418T193110Z
LAST-MODIFIED:20170418T193110Z
UID:1644-1504335600-1504468800@anishinabek.ca
SUMMARY:Nipissing First Nation 29th Annual Traditional Powwow
DESCRIPTION:WATER IS LIFE\nSeptember 2 & 3\, 2017\nLabour Day Weekend\nAddress: NFN Cultural Lands (23 km’s west of North Bay on Hwy 17 Turn South on Jocko Point Road to 2100 Paradise Lane \nHost Drum: Young Creek\, Co-Host: Young Eagle \nElder: Dan Commanda \nHead Veteran: TBA \nHead Male Dancer: Clifton Mianskum \nHead Female Dancer: Amanda Bellfeuille \nFeaturing: Miss NFN – Friday Night \nAnnual Rock Your Mocs Competition \n11:00 a.m. (Registration) 12:00 p.m. (Grand Entry) 7:00 a.m. (Sunrise starting Thursday Aug 31 to Sept 3) \nTraditional Feast priority for Drummers\, Dancers\, and Elders \nVENDORS MUST REGISTER * FREE ADMISSION * EVERYONE IS WELCOME \nROUGH CAMPING 18+ * ABSOLUTELY NO DRUGS\, ALCOHOL OR PETS! \nFor event info\, please contact Event Coordinator at julesa@nfn.ca or (705) 753-2050 ext. 1260 \nwww.nfnculture.ca
URL:https://anishinabek.ca/event/nipissing-first-nation-29th-annual-traditional-powwow/
END:VEVENT
BEGIN:VEVENT
DTSTART;VALUE=DATE:20170906
DTEND;VALUE=DATE:20170907
DTSTAMP:20260422T025904
CREATED:20170828T200804Z
LAST-MODIFIED:20170828T201636Z
UID:1869-1504656000-1504742399@anishinabek.ca
SUMMARY:Family Well-Being Presentation (Sheguiandah)
DESCRIPTION:Where: Sheguiandah First Nation \nWith: Community Presentation \nDate: September 6\, 2017 \nTime and Location: To be determined and posted on this site.
URL:https://anishinabek.ca/event/family-well-being-presentation-2/
END:VEVENT
BEGIN:VEVENT
DTSTART;VALUE=DATE:20170907
DTEND;VALUE=DATE:20170910
DTSTAMP:20260422T025904
CREATED:20170901T144711Z
LAST-MODIFIED:20170905T150206Z
UID:1914-1504742400-1505001599@anishinabek.ca
SUMMARY:Robinson Huron Treaty Gathering
DESCRIPTION:Robinson Huron Treaty Gathering 2017\n \nSeptember 7\, 8\, 9\, 2017\nAtikameksheng Anishinawbek\nCultural Grounds – Reserve Road at Naughton\, Ontario \nThe Robinson-Huron Treaty between the British Crown and the Ojibways of Lake Huron was entered into on September 9th. 1850. \nThe Chiefs have invited elders\, historians\, legal experts and citizens to educate people about the meaning of the treaty\, discuss the treaty’s history\, and learn about Anishinabek law and to celebrate the Anishinabek way of life. \nOntario Regional Chief Isadore Day and Assembly of First Nations National Chief Perry Bellegarde will be in attendance. \nPLEASE BRING YOUR FEAST BUNDLES. NO BOTTLED WATER. \nVENDORS WELCOME! \nThe POSTER can be seen HERE. \nThe DRAFT AGENDA can be seen HERE. \nThis is a free event for all to attend. \n 
URL:https://anishinabek.ca/event/robinson-huron-treaty-gathering/
END:VEVENT
BEGIN:VEVENT
DTSTART;TZID=UTC:20170912T090000
DTEND;TZID=UTC:20170913T160000
DTSTAMP:20260422T025904
CREATED:20170828T201837Z
LAST-MODIFIED:20170828T201942Z
UID:1883-1505206800-1505318400@anishinabek.ca
SUMMARY:Family Well-being Training
DESCRIPTION:Where:  Sault Ste. Marie \nDate: September 12 and 13\, 2017 \nTime and Location: To be updated
URL:https://anishinabek.ca/event/family-well-being-training/
END:VEVENT
BEGIN:VEVENT
DTSTART;TZID=UTC:20170912T110000
DTEND;TZID=UTC:20170912T150000
DTSTAMP:20260422T025904
CREATED:20170905T144433Z
LAST-MODIFIED:20170905T144433Z
UID:1923-1505214000-1505228400@anishinabek.ca
SUMMARY:HIV/HCV Information and On-Site Training (Biinjitiwaabik)
DESCRIPTION:Anishinabek Nation\, Elevate NWO (North Western Ontario) and OAHAS (Ontario Aboriginal HIV Aids Strategy) \nARE YOU POSITIVE/YOU’RE NEGATIVE?\nGet tested and erase the doubt? \nHIV/HCV (Hep C) \nInformation Sessions for community members \nSuperior Region HIV/HCV Information and On-Site Training \nTUESDAY\, SEPTEMBER 12 \nBiinjitiwaabik Zaaging Anishinabek Health Station \n11:00 am – 3:00 pm \nContact: Health Director Lorraine Cook \nPhone: 807-885-3204 \nEmail: icook@rockybayfn.ca \nFREE LUNCHEON \nA Baby Pendleton Blanket to be drawn and more!
URL:https://anishinabek.ca/event/hivhcv-information-and-on-site-training-biinjitiwaabik/
END:VEVENT
BEGIN:VEVENT
DTSTART;TZID=UTC:20170913T110000
DTEND;TZID=UTC:20170913T150000
DTSTAMP:20260422T025904
CREATED:20170905T144829Z
LAST-MODIFIED:20170905T145517Z
UID:1925-1505300400-1505314800@anishinabek.ca
SUMMARY:HIV/HCV Information and On-Site Training (Biigtigong Nishinaabeg)
DESCRIPTION:Anishinabek Nation\, Elevate NWO (North Western Ontario) and OAHAS (Ontario Aboriginal HIV Aids Strategy) \nARE YOU POSITIVE/YOU’RE NEGATIVE?\nGet tested and erase the doubt? \nHIV/HCV (Hep C) \nInformation Sessions for community members \nSuperior Region HIV/HCV Information and On-Site Training \nWEDNESDAY\, SEPTEMBER 13 \nBiigtigong NishinaabeG \nBiigigong Mno-zhi-yaagamig \n11:00 am – 3:00 pm \nContact: Shelly Michano \nPhone: 807-229-1836 ext. 609 \nEmail: shelly.michano@picriver.com \nFREE LUNCHEON \nA Baby Pendleton Blanket to be drawn and more!
URL:https://anishinabek.ca/event/hivhcv-information-and-on-site-training-biigtigong-nishinaabeg/
END:VEVENT
BEGIN:VEVENT
DTSTART;VALUE=DATE:20170914
DTEND;VALUE=DATE:20170915
DTSTAMP:20260422T025904
CREATED:20170828T202156Z
LAST-MODIFIED:20170828T202156Z
UID:1887-1505347200-1505433599@anishinabek.ca
SUMMARY:Child & Family Services Act Engagement
DESCRIPTION:Where: Sault Ste. Marie \nDate: September 14th \nTime & Location: To be updated
URL:https://anishinabek.ca/event/child-family-services-act-engagement/
END:VEVENT
BEGIN:VEVENT
DTSTART;TZID=UTC:20170914T110000
DTEND;TZID=UTC:20170914T150000
DTSTAMP:20260422T025904
CREATED:20170905T145357Z
LAST-MODIFIED:20170905T145554Z
UID:1927-1505386800-1505401200@anishinabek.ca
SUMMARY:HIV/HCV Information and On-Site Training (Pic Mobert)
DESCRIPTION:Anishinabek Nation\, Elevate NWO (North Western Ontario) and OAHAS (Ontario Aboriginal HIV Aids Strategy) \nARE YOU POSITIVE/YOU’RE NEGATIVE?\nGet tested and erase the doubt? \nHIV/HCV (Hep C) \nInformation Sessions for community members \nSuperior Region HIV/HCV Information and On-Site Training \nTHURSDAY\, SEPTEMBER 14 \nPic Mobert First Nation \nHealth Centre \n11:00 am – 3:00 pm \nContact: Crystal Pirie\, Health & Social Manager \nPhone: 807-822-1560 ext 228 \nEmail: healthandsocial@picmobert.ca \nFREE LUNCHEON \nA Baby Pendleton Blanket to be drawn and more!
URL:https://anishinabek.ca/event/hivhcv-information-and-on-site-training-pic-mobert/
END:VEVENT
BEGIN:VEVENT
DTSTART;VALUE=DATE:20170918
DTEND;VALUE=DATE:20170919
DTSTAMP:20260422T025904
CREATED:20170828T201022Z
LAST-MODIFIED:20170828T201608Z
UID:1871-1505692800-1505779199@anishinabek.ca
SUMMARY:Family Well-Being Presentation (Zhiibaahaasing)
DESCRIPTION:Where: Zhiibaahaasing First Nation \nWith: Chief & Council/Community Presentation\n \nDate: September 18\, 2017 \nTime and Location:  To be determined and posted once available.
URL:https://anishinabek.ca/event/family-well-being-presentation-3/
END:VEVENT
END:VCALENDAR