BEGIN:VCALENDAR
VERSION:2.0
PRODID:-//UNION OF ONTARIO INDIANS - ECPv6.15.20//NONSGML v1.0//EN
CALSCALE:GREGORIAN
METHOD:PUBLISH
X-ORIGINAL-URL:https://anishinabek.ca
X-WR-CALDESC:Events for UNION OF ONTARIO INDIANS
REFRESH-INTERVAL;VALUE=DURATION:PT1H
X-Robots-Tag:noindex
X-PUBLISHED-TTL:PT1H
BEGIN:VTIMEZONE
TZID:UTC
BEGIN:STANDARD
TZOFFSETFROM:+0000
TZOFFSETTO:+0000
TZNAME:UTC
DTSTART:20160101T000000
END:STANDARD
END:VTIMEZONE
BEGIN:VEVENT
DTSTART;TZID=UTC:20171017T083000
DTEND;TZID=UTC:20171019T160000
DTSTAMP:20260422T010117
CREATED:20170901T153021Z
LAST-MODIFIED:20170901T153021Z
UID:1920-1508229000-1508428800@anishinabek.ca
SUMMARY:8th Annual Anishinabek G7 - FASD Conference
DESCRIPTION:FASD – EXPANDING THE SUPPORTS FOR SUCCESS\n \nOctober 17\, 18\, 19\, 2017 \nQuattro Hotel \n229 Great Northern Road\, Sault Ste. Marie ON \nKeynote Speakers \nDr. Mary DeJoseph: FASD and the Family \nJeff Noble: The Keys to FASD Success \nDr. James Reynolds: Genes\, Neuroimaging and Behaviour – Searching for Biomarkers of FASD \nThe full registration package is available HERE.
URL:https://anishinabek.ca/event/8th-annual-anishinabek-g7-fasd-conference/
END:VEVENT
BEGIN:VEVENT
DTSTART;VALUE=DATE:20171020
DTEND;VALUE=DATE:20171023
DTSTAMP:20260422T010117
CREATED:20170830T180453Z
LAST-MODIFIED:20170830T180453Z
UID:1905-1508457600-1508716799@anishinabek.ca
SUMMARY:Ontario Native Basketball Invitational
DESCRIPTION:October 20-22\, 2017 \nOntario Native Basketball Invitational\nSault College – Sault Ste. Marie\, ON \n3 Divisions (Junior\, Senior\, Adult) \n$175.00/Team of $30.00/Player \nLetter of Intent deadline: October 7\, 2017 \nThe poster can be seen HERE\n 
URL:https://anishinabek.ca/event/ontario-native-basketball-invitational/
END:VEVENT
BEGIN:VEVENT
DTSTART;TZID=UTC:20171023T090000
DTEND;TZID=UTC:20171024T160000
DTSTAMP:20260422T010117
CREATED:20170830T175425Z
LAST-MODIFIED:20170830T175900Z
UID:1900-1508749200-1508860800@anishinabek.ca
SUMMARY:Indigenous Well-Being In Schools Engagement Session
DESCRIPTION:Are you involved in Indigenous Education?  We want to hear from you! \nINDIGENOUS WELL-BEING IN SCHOOLS ENGAGEMENT SESSION\nUnderstanding\, Promoting and Supporting Indigenous Learners \nOctober 23\, 24\, 2017 \nWater Tower Inn – Sault Ste. Marie\, ON \nONECA will be covereing the cots of travel and accommodations. Space is limited\, register early. \nTo register\, to go www.oneca.com to download the form or contact Shauna Lapatak at shaunalapatak@oneca.com \n \n  \n  \n  \n  \nFunding is provided by the government of Ontario
URL:https://anishinabek.ca/event/indigenous-well-being-in-schools-engagement-session/
END:VEVENT
END:VCALENDAR