BEGIN:VCALENDAR
VERSION:2.0
PRODID:-//UNION OF ONTARIO INDIANS - ECPv6.15.20//NONSGML v1.0//EN
CALSCALE:GREGORIAN
METHOD:PUBLISH
X-ORIGINAL-URL:https://anishinabek.ca
X-WR-CALDESC:Events for UNION OF ONTARIO INDIANS
REFRESH-INTERVAL;VALUE=DURATION:PT1H
X-Robots-Tag:noindex
X-PUBLISHED-TTL:PT1H
BEGIN:VTIMEZONE
TZID:UTC
BEGIN:STANDARD
TZOFFSETFROM:+0000
TZOFFSETTO:+0000
TZNAME:UTC
DTSTART:20160101T000000
END:STANDARD
END:VTIMEZONE
BEGIN:VEVENT
DTSTART;TZID=UTC:20171101T000000
DTEND;TZID=UTC:20171211T160000
DTSTAMP:20260421T231552
CREATED:20171102T151345Z
LAST-MODIFIED:20171102T151440Z
UID:1982-1509494400-1513008000@anishinabek.ca
SUMMARY:Heroes in Health Nominations
DESCRIPTION:Heroes in Health of the Anishinabek Nation\nWe are looking for your nominations for the Community Hero in Health \nPlease send the name and explain why you feel this person is your Hero in Health to your community Health Director/Manager.  These individuals will be recognized at the Anishinabek Nation 3rd Annual Health Conference during lunch on January 23\, 2018. \nWhat is Heroes in Health?  See this POSTER for the answer. \nDeadline: December 11\, 2017 at 4:00 pm
URL:https://anishinabek.ca/event/heroes-in-health-nominations/
END:VEVENT
BEGIN:VEVENT
DTSTART;TZID=UTC:20171117T090000
DTEND;TZID=UTC:20171117T160000
DTSTAMP:20260421T231552
CREATED:20171027T171308Z
LAST-MODIFIED:20171027T171506Z
UID:1972-1510909200-1510934400@anishinabek.ca
SUMMARY:SAVE THE DATE - Crisis Response & Mental Wellness Teams
DESCRIPTION:The Anishinabek Nation is seeking input from community members who are involved in ON-RESERVE crisis planning to take part in a discussion to develop the composition and housing of 7 Crisis Response and Mental Health Teams throughout the Anishinabek territory. \nThe goal will be to have a full menu of community-based mental health and wellness services that will meet professional and indigenous knowledge standards for our members. \nThis will be of interest to on-reserve front-line workers; on-reserve First responders; on-reserve Traditional practitioners; Chiefs; on-reserve Community Health Reps; on-reserve Health & Social Service Directors; on-reserve Mental Health Workers; on-reserve Counsellors; on-reserve Educators; on-reserve Women/Mens shelters; on-reserve Healing Lodges; and Area Health Boards. \n\nPlease register by Friday\, November 3 so that meeting room and accommodations can be coordinated. \nTRAVEL EXPENSES WILL BE REIMBURSED FOR TWO PEOPLE PER COMMUNITY \n\nTo register contact Priscilla Goulais\, Health Department \nPhone: (705) 497-9127 ext. 228 \nEmail: goupri@anishinabek.ca \nThe registration form is available HERE
URL:https://anishinabek.ca/event/save-the-date-crisis-response-mental-wellness-teams/
END:VEVENT
BEGIN:VEVENT
DTSTART;TZID=UTC:20171129T090000
DTEND;TZID=UTC:20171130T160000
DTSTAMP:20260421T231552
CREATED:20171102T152828Z
LAST-MODIFIED:20171102T153000Z
UID:1989-1511946000-1512057600@anishinabek.ca
SUMMARY:Honouring Missing & Murdered Indigenous Women and Girls Conference
DESCRIPTION:November 29 & 30\, 2017 \nHoliday Inn \n1696 Regent Street\, Sudbury\, ON \nHonouring Missing & Murdered Indigenous Women and Girls Conference \nKEYNOTE SPEAKER \nKathering McCarthy\, Author of “Invisible Victims: Missing and Murdered Indigenous Women” \nEMCEE \nRyan McMahon \nNOKOMIS/MISHOMIS \nGloria Oshkabewisens and Ron McGregor \nConference Poster  \nConference Registration Form \nTentative Agenda
URL:https://anishinabek.ca/event/1989/
END:VEVENT
END:VCALENDAR