BEGIN:VCALENDAR
VERSION:2.0
PRODID:-//UNION OF ONTARIO INDIANS - ECPv6.15.20//NONSGML v1.0//EN
CALSCALE:GREGORIAN
METHOD:PUBLISH
X-WR-CALNAME:UNION OF ONTARIO INDIANS
X-ORIGINAL-URL:https://anishinabek.ca
X-WR-CALDESC:Events for UNION OF ONTARIO INDIANS
REFRESH-INTERVAL;VALUE=DURATION:PT1H
X-Robots-Tag:noindex
X-PUBLISHED-TTL:PT1H
BEGIN:VTIMEZONE
TZID:UTC
BEGIN:STANDARD
TZOFFSETFROM:+0000
TZOFFSETTO:+0000
TZNAME:UTC
DTSTART:20170101T000000
END:STANDARD
END:VTIMEZONE
BEGIN:VEVENT
DTSTART;TZID=UTC:20180201T090000
DTEND;TZID=UTC:20180201T120000
DTSTAMP:20260421T180503
CREATED:20180130T202241Z
LAST-MODIFIED:20180130T202305Z
UID:2177-1517475600-1517486400@anishinabek.ca
SUMMARY:Health Transformation Engagement Session - Sudbury
DESCRIPTION:The Anishinabek Nation will be hosting engagement sessions to provide a forum for community members to discuss and identify the changes required to make the best health system to reflect our way of life.\nEvery is Welcome!\nEngagement Sessions to take place in the following locations: \nJanuary 31 (9:00 a.m. to 4:00 p.m.) Shkagamik Kwe\, 161 Applegrove St. – Sudbury\, Ontario \nFebruary 1 (9:00 a.m. to 12:00 p.m.) Shkagamik Kwe\, 161 Applegrove St. – Sudbury\, Ontario \nFebruary 6-7 Southwest Region\, Munsee-Delaware Nation – Munsee-Delaware\, Ontario \nFebruary 8-9 Southeast Region\, Rama First Nation – Rama\, Ontario \nFebruary 20-21\, Garden River First Nation\, Garden River\, Ontario \nMarch 7-8 (Place TBD\, Ottawa) \nMarch 19-20\, Northern Superior\, Place TBD – Thunder Bay\, Ontario \nRefreshments/Lunch will be provided. \nPlease note that travel expenses for mileage (one vehicle per community)\, meals and accommodations will be reimburses for up to 3 participants per community upon submission of original receipts as per UOI accounting policy. Reimbursement forms will be provided at the session. \nIndividual community meetings can also be arranged by request. \nFor more information and to register\, contact: \n\n\n\nCathy Bellefeuille \nHealth Transformation Consultant \nPhone (07) 497-9127 \nEmail: cathy.bellefeuille@gmail.com\nPriscilla Goulais \nAnishinabek Nation Health Department \nPhone (705) 497-9127 \ngoupri@anishinabek.ca\n\n\n\n  \n 
URL:https://anishinabek.ca/event/health-transformation-engagement-session-sudbury/
END:VEVENT
BEGIN:VEVENT
DTSTART;TZID=UTC:20180206T090000
DTEND;TZID=UTC:20180207T160000
DTSTAMP:20260421T180503
CREATED:20180130T202522Z
LAST-MODIFIED:20180130T202522Z
UID:2180-1517907600-1518019200@anishinabek.ca
SUMMARY:Health Transformation Engagement Session (Munsee-Delaware)
DESCRIPTION:The Anishinabek Nation will be hosting engagement sessions to provide a forum for community members to discuss and identify the changes required to make the best health system to reflect our way of life.\nEvery is Welcome!\nEngagement Sessions to take place in the following locations: \nJanuary 31 (9:00 a.m. to 4:00 p.m.) Shkagamik Kwe\, 161 Applegrove St. – Sudbury\, Ontario \nFebruary 1 (9:00 a.m. to 12:00 p.m.) Shkagamik Kwe\, 161 Applegrove St. – Sudbury\, Ontario \nFebruary 6-7 Southwest Region\, Munsee-Delaware Nation – Munsee-Delaware\, Ontario \nFebruary 8-9 Southeast Region\, Rama First Nation – Rama\, Ontario \nFebruary 20-21\, Garden River First Nation\, Garden River\, Ontario \nMarch 7-8 (Place TBD\, Ottawa) \nMarch 19-20\, Northern Superior\, Place TBD – Thunder Bay\, Ontario \nRefreshments/Lunch will be provided. \nPlease note that travel expenses for mileage (one vehicle per community)\, meals and accommodations will be reimburses for up to 3 participants per community upon submission of original receipts as per UOI accounting policy. Reimbursement forms will be provided at the session. \nIndividual community meetings can also be arranged by request. \nFor more information and to register\, contact: \n\n\n\nCathy Bellefeuille \nHealth Transformation Consultant \nPhone (07) 497-9127 \nEmail: cathy.bellefeuille@gmail.com\nPriscilla Goulais \nAnishinabek Nation Health Department \nPhone (705) 497-9127 \ngoupri@anishinabek.ca\n\n\n\n  \n 
URL:https://anishinabek.ca/event/health-transformation-engagement-session-munsee-delaware/
END:VEVENT
BEGIN:VEVENT
DTSTART;TZID=UTC:20180206T090000
DTEND;TZID=UTC:20180208T160000
DTSTAMP:20260421T180503
CREATED:20180201T163428Z
LAST-MODIFIED:20180201T164817Z
UID:2201-1517907600-1518105600@anishinabek.ca
SUMMARY:Lands and Resources Forum
DESCRIPTION:Everything is connected. \nThe Union of Ontario Indians Lands & Resources looks forwards to your presence at the second annual: \nLands and Resources Form \nFebruary 6 to 8\, 2018 \nBest Western Hotel & Conference Centre – North Bay\, Ontario
URL:https://anishinabek.ca/event/lands-and-resources-forum/
END:VEVENT
BEGIN:VEVENT
DTSTART;TZID=UTC:20180208T090000
DTEND;TZID=UTC:20180209T160000
DTSTAMP:20260421T180503
CREATED:20180130T202653Z
LAST-MODIFIED:20180130T202653Z
UID:2182-1518080400-1518192000@anishinabek.ca
SUMMARY:Health Transformation Engagement Session - Rama
DESCRIPTION:The Anishinabek Nation will be hosting engagement sessions to provide a forum for community members to discuss and identify the changes required to make the best health system to reflect our way of life.\nEvery is Welcome!\nEngagement Sessions to take place in the following locations: \nJanuary 31 (9:00 a.m. to 4:00 p.m.) Shkagamik Kwe\, 161 Applegrove St. – Sudbury\, Ontario \nFebruary 1 (9:00 a.m. to 12:00 p.m.) Shkagamik Kwe\, 161 Applegrove St. – Sudbury\, Ontario \nFebruary 6-7 Southwest Region\, Munsee-Delaware Nation – Munsee-Delaware\, Ontario \nFebruary 8-9 Southeast Region\, Rama First Nation – Rama\, Ontario \nFebruary 20-21\, Garden River First Nation\, Garden River\, Ontario \nMarch 7-8 (Place TBD\, Ottawa) \nMarch 19-20\, Northern Superior\, Place TBD – Thunder Bay\, Ontario \nRefreshments/Lunch will be provided. \nPlease note that travel expenses for mileage (one vehicle per community)\, meals and accommodations will be reimburses for up to 3 participants per community upon submission of original receipts as per UOI accounting policy. Reimbursement forms will be provided at the session. \nIndividual community meetings can also be arranged by request. \nFor more information and to register\, contact: \n\n\n\nCathy Bellefeuille \nHealth Transformation Consultant \nPhone (07) 497-9127 \nEmail: cathy.bellefeuille@gmail.com\nPriscilla Goulais \nAnishinabek Nation Health Department \nPhone (705) 497-9127 \ngoupri@anishinabek.ca\n\n\n\n 
URL:https://anishinabek.ca/event/health-transformation-engagement-session-rama/
END:VEVENT
BEGIN:VEVENT
DTSTART;TZID=UTC:20180219T170000
DTEND;TZID=UTC:20180222T170000
DTSTAMP:20260421T180503
CREATED:20180201T155328Z
LAST-MODIFIED:20180201T155544Z
UID:2194-1519059600-1519318800@anishinabek.ca
SUMMARY:Waawiiji'idiyaang (Helping Each Other) Training
DESCRIPTION:When: February 19th–22rd\, 2018.  Gathering will begin Monday evening and end Thursday afternoon.\nWhere: Nor’wester Best Western Hotel\, Thunder Bay\nTOPICS to be covered include; HIV/AIDS\, Harm Reduction\, Cultural Teachings\, etc\, with opportunities to be have meaningful conversations.\nWho should register? Community members living with or affected by HIV/AIDS\, frontline workers\, leadership & allies. \nBuilding Community: This gathering will help to improve awareness around HIV/AIDS and ways we can come together as a community to address stigma through a harm reduction approach. \nTravel\, accommodations & meals will be covered. \nSponsors: \nOntario First Nations HIV/AIDS Education Circle (OFNHAEC) \nFirst Nation Inuit Health Branch \nHost: Nishnawbe Aski Nation / Healthy Lifestyles Program \nEmail or fax registration to: \nLaura Liberty\, Anishinabek Nation HIV Coordinato\, laura.liberty@anishinabek.ca Fax: 705-497-9135 \nRegistration Form available HERE \nView the Agenda HERE \n  \n 
URL:https://anishinabek.ca/event/waawiijiidiyaang-helping-each-other-training/
END:VEVENT
BEGIN:VEVENT
DTSTART;TZID=UTC:20180220T083000
DTEND;TZID=UTC:20180220T160000
DTSTAMP:20260421T180503
CREATED:20180119T144717Z
LAST-MODIFIED:20180119T144717Z
UID:2130-1519115400-1519142400@anishinabek.ca
SUMMARY:First Nation Citizenship Regional Session - Thunder Bay
DESCRIPTION:February 20\, 2018 at the Valhalla\, Thunder Bay\n\nIs your First Nation considering developing a Citizenship Law or Membership Code?\nDoes your First Nation want to amend their Membership Code or Citizenship Code or Law?\nLearn more about the current legal climate in Canada on status and membership Supreme Court of Canada’s Deschesneaux and Daniels decisions.\n\nFor further information\, please contact Linda Seamont\, Legal Admin. Coordinator at linda.newhook@anishinabek.ca or telephone (705) 497-9127 Ext. 2230 \nEvent poster can be seen HERE.
URL:https://anishinabek.ca/event/first-nation-citizenship-regional-session-thunder-bay/
END:VEVENT
BEGIN:VEVENT
DTSTART;TZID=UTC:20180220T090000
DTEND;TZID=UTC:20180221T160000
DTSTAMP:20260421T180503
CREATED:20180130T202759Z
LAST-MODIFIED:20180130T202759Z
UID:2184-1519117200-1519228800@anishinabek.ca
SUMMARY:Health Transformation Engagement Session - Garden River
DESCRIPTION:The Anishinabek Nation will be hosting engagement sessions to provide a forum for community members to discuss and identify the changes required to make the best health system to reflect our way of life.\nEvery is Welcome!\nEngagement Sessions to take place in the following locations: \nJanuary 31 (9:00 a.m. to 4:00 p.m.) Shkagamik Kwe\, 161 Applegrove St. – Sudbury\, Ontario \nFebruary 1 (9:00 a.m. to 12:00 p.m.) Shkagamik Kwe\, 161 Applegrove St. – Sudbury\, Ontario \nFebruary 6-7 Southwest Region\, Munsee-Delaware Nation – Munsee-Delaware\, Ontario \nFebruary 8-9 Southeast Region\, Rama First Nation – Rama\, Ontario \nFebruary 20-21\, Garden River First Nation\, Garden River\, Ontario \nMarch 7-8 (Place TBD\, Ottawa) \nMarch 19-20\, Northern Superior\, Place TBD – Thunder Bay\, Ontario \nRefreshments/Lunch will be provided. \nPlease note that travel expenses for mileage (one vehicle per community)\, meals and accommodations will be reimburses for up to 3 participants per community upon submission of original receipts as per UOI accounting policy. Reimbursement forms will be provided at the session. \nIndividual community meetings can also be arranged by request. \nFor more information and to register\, contact: \n\n\n\nCathy Bellefeuille \nHealth Transformation Consultant \nPhone (07) 497-9127 \nEmail: cathy.bellefeuille@gmail.com\nPriscilla Goulais \nAnishinabek Nation Health Department \nPhone (705) 497-9127 \ngoupri@anishinabek.ca\n\n\n\n 
URL:https://anishinabek.ca/event/health-transformation-engagement-session-garden-river/
END:VEVENT
BEGIN:VEVENT
DTSTART;TZID=UTC:20180221T083000
DTEND;TZID=UTC:20180221T160000
DTSTAMP:20260421T180503
CREATED:20180119T143719Z
LAST-MODIFIED:20180119T145041Z
UID:2125-1519201800-1519228800@anishinabek.ca
SUMMARY:Matrimonial Real Property Law Regional Session - Thunder Bay
DESCRIPTION:Is your First Nation familiar with the Anishinabek Nation and/or the federal MRP laws?\nWhere is your First Nation at with regards to development and ratification of its own MRP law?\nDo you want to obtain more information about MRP law and network with other First Nation staff who are also working on MRP law development or implementation?\n\nSee this POSTER on the Anishinabek Nation Regional Sessions coming in January\, February and March. \nWho should attend? \n\nStaff directly involved with MRP matters (ex. MRP Coordinator\, Housing\, Lands)\nA Chief/Council member with MRP/Lands/Housing portfolio.\n\nWho do you contact for information or forward your RSVP? Do so by emailing Linda Seamont at linda.seamont@anishinabek.ca or call at (705) 497-9127.
URL:https://anishinabek.ca/event/matrimonial-real-property-law-regional-sessions-thunder-bay/
END:VEVENT
BEGIN:VEVENT
DTSTART;TZID=UTC:20180228T083000
DTEND;TZID=UTC:20180228T160000
DTSTAMP:20260421T180503
CREATED:20180119T144856Z
LAST-MODIFIED:20180119T144856Z
UID:2133-1519806600-1519833600@anishinabek.ca
SUMMARY:First Nation Citizenship Regional Session - Sudbury
DESCRIPTION:February 28\, 2018\, Radisson – Sudbury\n\nIs your First Nation considering developing a Citizenship Law or Membership Code?\nDoes your First Nation want to amend their Membership Code or Citizenship Code or Law?\nLearn more about the current legal climate in Canada on status and membership Supreme Court of Canada’s Deschesneaux and Daniels decisions.\n\nFor further information\, please contact Linda Seamont\, Legal Admin. Coordinator at linda.newhook@anishinabek.ca or telephone (705) 497-9127 Ext. 2230 \nEvent poster can be seen HERE.
URL:https://anishinabek.ca/event/first-nation-citizenship-regional-session-sudbury/
END:VEVENT
END:VCALENDAR