BEGIN:VCALENDAR
VERSION:2.0
PRODID:-//UNION OF ONTARIO INDIANS - ECPv6.15.20//NONSGML v1.0//EN
CALSCALE:GREGORIAN
METHOD:PUBLISH
X-WR-CALNAME:UNION OF ONTARIO INDIANS
X-ORIGINAL-URL:https://anishinabek.ca
X-WR-CALDESC:Events for UNION OF ONTARIO INDIANS
REFRESH-INTERVAL;VALUE=DURATION:PT1H
X-Robots-Tag:noindex
X-PUBLISHED-TTL:PT1H
BEGIN:VTIMEZONE
TZID:UTC
BEGIN:STANDARD
TZOFFSETFROM:+0000
TZOFFSETTO:+0000
TZNAME:UTC
DTSTART:20170101T000000
END:STANDARD
END:VTIMEZONE
BEGIN:VEVENT
DTSTART;TZID=UTC:20180301T083000
DTEND;TZID=UTC:20180301T160000
DTSTAMP:20260421T163444
CREATED:20180112T213902Z
LAST-MODIFIED:20180119T145232Z
UID:2098-1519893000-1519920000@anishinabek.ca
SUMMARY:Matrimonial Real Property Law Regional Session - Sudbury
DESCRIPTION:Is your First Nation familiar with the Anishinabek Nation and/or the federal MRP laws?\nWhere is your First Nation at with regards to development and ratification of its own MRP law?\nDo you want to obtain more information about MRP law and network with other First Nation staff who are also working on MRP law development or implementation?\n\nSee this POSTER on the Anishinabek Nation Regional Sessions coming in January\, February and March. \nWho should attend? \n\nStaff directly involved with MRP matters (ex. MRP Coordinator\, Housing\, Lands)\nA Chief/Council member with MRP/Lands/Housing portfolio.\n\nWho do you contact for information or forward your RSVP? Do so by emailing Linda Seamont at linda.seamont@anishinabek.ca or call at (705) 497-9127.
URL:https://anishinabek.ca/event/matrimonial-real-property-law-regional-sessions/
END:VEVENT
BEGIN:VEVENT
DTSTART;TZID=UTC:20180307T090000
DTEND;TZID=UTC:20180308T160000
DTSTAMP:20260421T163444
CREATED:20180130T203010Z
LAST-MODIFIED:20180226T205659Z
UID:2186-1520413200-1520524800@anishinabek.ca
SUMMARY:Health Transformation Engagement Session - Ottawa
DESCRIPTION:The Anishinabek Nation will be hosting engagement sessions to provide a forum for community members to discuss and identify the changes required to make the best health system to reflect our way of life.\nEvery is Welcome!\nEngagement Sessions to take place in the following locations: \nJanuary 31 (9:00 a.m. to 4:00 p.m.) Shkagamik Kwe\, 161 Applegrove St. – Sudbury\, Ontario \nFebruary 1 (9:00 a.m. to 12:00 p.m.) Shkagamik Kwe\, 161 Applegrove St. – Sudbury\, Ontario \nFebruary 6-7 Southwest Region\, Munsee-Delaware Nation – Munsee-Delaware\, Ontario \nFebruary 8-9 Southeast Region\, Rama First Nation – Rama\, Ontario \nFebruary 20-21\, Garden River Community Centre\, Garden River\, Ontario \nMarch 7-8\, Les Suites Hotel\, 130 Besserer St.\, Ottawa \nMarch 19-20\, Northern Superior\, Victoria Inn Hotel\, 555 Arthur Street W. – Thunder Bay\, Ontario \nMarch 27\, Shkagamik Kwe\, 161 applegrove St. Sudbury\, Ontario \nRefreshments/Lunch will be provided. \nPlease note that travel expenses for mileage (one vehicle per community)\, meals and accommodations will be reimburses for up to 3 participants per community upon submission of original receipts as per UOI accounting policy. Reimbursement forms will be provided at the session. \nIndividual community meetings can also be arranged by request. \nFor more information and to register\, contact: \n\n\n\nCathy Bellefeuille \nHealth Transformation Consultant \nPhone (07) 497-9127 \nEmail: cathy.bellefeuille@gmail.com\nPriscilla Goulais \nAnishinabek Nation Health Department \nPhone (705) 497-9127 \ngoupri@anishinabek.ca
URL:https://anishinabek.ca/event/health-transformation-engagement-session-ottawa/
END:VEVENT
BEGIN:VEVENT
DTSTART;TZID=UTC:20180319T090000
DTEND;TZID=UTC:20180320T160000
DTSTAMP:20260421T163444
CREATED:20180130T203154Z
LAST-MODIFIED:20180130T203154Z
UID:2188-1521450000-1521561600@anishinabek.ca
SUMMARY:Health Transformation Engagement Session - Thunder Bay
DESCRIPTION:The Anishinabek Nation will be hosting engagement sessions to provide a forum for community members to discuss and identify the changes required to make the best health system to reflect our way of life.\nEvery is Welcome!\nEngagement Sessions to take place in the following locations: \nJanuary 31 (9:00 a.m. to 4:00 p.m.) Shkagamik Kwe\, 161 Applegrove St. – Sudbury\, Ontario \nFebruary 1 (9:00 a.m. to 12:00 p.m.) Shkagamik Kwe\, 161 Applegrove St. – Sudbury\, Ontario \nFebruary 6-7 Southwest Region\, Munsee-Delaware Nation – Munsee-Delaware\, Ontario \nFebruary 8-9 Southeast Region\, Rama First Nation – Rama\, Ontario \nFebruary 20-21\, Garden River First Nation\, Garden River\, Ontario \nMarch 7-8 (Place TBD\, Ottawa) \nMarch 19-20\, Northern Superior\, Place TBD – Thunder Bay\, Ontario \nRefreshments/Lunch will be provided. \nPlease note that travel expenses for mileage (one vehicle per community)\, meals and accommodations will be reimburses for up to 3 participants per community upon submission of original receipts as per UOI accounting policy. Reimbursement forms will be provided at the session. \nIndividual community meetings can also be arranged by request. \nFor more information and to register\, contact: \n\n\n\nCathy Bellefeuille \nHealth Transformation Consultant \nPhone (07) 497-9127 \nEmail: cathy.bellefeuille@gmail.com\nPriscilla Goulais \nAnishinabek Nation Health Department \nPhone (705) 497-9127 \ngoupri@anishinabek.ca
URL:https://anishinabek.ca/event/health-transformation-engagement-session-thunder-bay/
END:VEVENT
END:VCALENDAR