BEGIN:VCALENDAR
VERSION:2.0
PRODID:-//UNION OF ONTARIO INDIANS - ECPv6.15.20//NONSGML v1.0//EN
CALSCALE:GREGORIAN
METHOD:PUBLISH
X-WR-CALNAME:UNION OF ONTARIO INDIANS
X-ORIGINAL-URL:https://anishinabek.ca
X-WR-CALDESC:Events for UNION OF ONTARIO INDIANS
REFRESH-INTERVAL;VALUE=DURATION:PT1H
X-Robots-Tag:noindex
X-PUBLISHED-TTL:PT1H
BEGIN:VTIMEZONE
TZID:UTC
BEGIN:STANDARD
TZOFFSETFROM:+0000
TZOFFSETTO:+0000
TZNAME:UTC
DTSTART:20170101T000000
END:STANDARD
END:VTIMEZONE
BEGIN:VEVENT
DTSTART;VALUE=DATE:20180601
DTEND;VALUE=DATE:20180602
DTSTAMP:20260421T112421
CREATED:20180502T182712Z
LAST-MODIFIED:20180502T182712Z
UID:2427-1527811200-1527897599@anishinabek.ca
SUMMARY:Chippewas of the Thames Annual Children’s Pow-wow
DESCRIPTION:Location: Antler River Elementary School\, 324 Chippewa Rd \nGrand Entry:  FRI 10 am \nAdmission: $2/person \nHost/Co-host drum: TBA \nSpecial Declaration: No Drugs or Alcohol\, Service Pets Only \nVendors: First Nations owned and operated vendors only. \nContact: Band Office 519-289-1000
URL:https://anishinabek.ca/event/chippewas-of-the-thames-annual-childrens-pow-wow-2/
END:VEVENT
BEGIN:VEVENT
DTSTART;VALUE=DATE:20180602
DTEND;VALUE=DATE:20180604
DTSTAMP:20260421T112421
CREATED:20180502T182829Z
LAST-MODIFIED:20180502T182829Z
UID:2429-1527897600-1528070399@anishinabek.ca
SUMMARY:Aundeck Omni Kaning Annual Traditional Pow-wow
DESCRIPTION:Embracing the Seven Grandfather Teachings \nLocation: On the beautiful shores of the North Channel on Manitoulin Island\, 5 minutes west of Little Current on Hwy 540\, turn on Lake Road \nAdmission: FREE \nGrand Entry: Sat 12pm & 7pm and Sun 11am \nMC: Mista Wasis (Greg Dreaver) \nArena Director: Robert Stoneypoint \nHost Drum: High Eagle \nHead Dancers: Talon Whiteye and Mariah Abotossaway \nRough Camping available (must be 18+ for campsite registration) \nCraft Vendors $100 for the weekend. Food Vendors $150 for the weekend \nDeclarations: Please bring your own chair.  No Alcohol\, Drugs or Non-service Pets allowed \nContact: Pow-wow Coordinator Mandy Shawanda (705) 368 – 0739 ext 1 or email: mshawanda@aokfn.com \nWebsite: www.aundeckomnikaningfn.com
URL:https://anishinabek.ca/event/aundeck-omni-kaning-annual-traditional-pow-wow/
END:VEVENT
BEGIN:VEVENT
DTSTART;VALUE=DATE:20180602
DTEND;VALUE=DATE:20180604
DTSTAMP:20260421T112421
CREATED:20180502T182936Z
LAST-MODIFIED:20180502T182936Z
UID:2431-1527897600-1528070399@anishinabek.ca
SUMMARY:Kitigan Zibi Traditional Pow-wow
DESCRIPTION:Location: 41 Kikinamage Mikan Zibi\, Maniwaki\, Que \nSunrise Ceremony: 5:30 am \nGrand Entry: 12 pm both days \nAdmission: Free \nDeclarations: NO ALCOHOL OR DRUGS allowed on the pow wow grounds; Service Animals are permitted but please no PETS; Although there is Security on the premises children should be accompanied by an adult at all times.  \nContact: KZA Pow-wow Coordinator (819) 441-1655 or via email: kzpowwow@gmail.com \nWebsite: www.kzpowwow.ca
URL:https://anishinabek.ca/event/kitigan-zibi-traditional-pow-wow/
END:VEVENT
BEGIN:VEVENT
DTSTART;VALUE=DATE:20180602
DTEND;VALUE=DATE:20180604
DTSTAMP:20260421T112421
CREATED:20180502T183135Z
LAST-MODIFIED:20180502T183135Z
UID:2435-1527897600-1528070399@anishinabek.ca
SUMMARY:Barrie Native Friendship Centre 29th Traditional Pow-Wow
DESCRIPTION:“Honouring our Founders” \nLocated: Springwater Provincial Park  Midhurst\, ON.  1331 ON-26 \nAdmission: $5.00 \nGrand Entry: Sat 12pm & 7pm; Sun 12pm \nFeast: Sat 5:30pm \nContact: Vanessa Kennedy Barrie Native Friendship Centre\, 705-721-7689  ext 223. \nDeclaration: Service Pets only Please and Drugs or Alcohol are not permitted
URL:https://anishinabek.ca/event/barrie-native-friendship-centre-29th-traditional-pow-wow/
END:VEVENT
BEGIN:VEVENT
DTSTART;TZID=UTC:20180602T080000
DTEND;TZID=UTC:20180603T170000
DTSTAMP:20260421T112421
CREATED:20180502T183050Z
LAST-MODIFIED:20180502T183050Z
UID:2433-1527926400-1528045200@anishinabek.ca
SUMMARY:23rd Annual Aboriginal Gathering and 15th Annual Traditional Pow-wow
DESCRIPTION:Location:  12 Foot Davis Event Park\, Peace River \nSpecial Events: Fiddling Saturday 4pm and Jigging Contest 4pm\, Hand drum groups\, games\, concessions \nGrand Entry: 1:00 pm daily \nAdmission Fee: FREE \nFree Stew and Bannock Saturday 5pm \nArena Director: George Desjarlais \nDrum Boss: Walter White \nHost Drum: Wildhorse \nRegistration:  Dancers: $5.00 \nSpecial Declaration: Authentic Indigenous Craft and Food Vendors\, Also please No alcohol\, No Drugs \nContact: (780)674-6316 \nContact via Email: wendygoulet3@gmail.com \nWebsite: www.peaceriveraic.com
URL:https://anishinabek.ca/event/23rd-annual-aboriginal-gathering-and-15th-annual-traditional-pow-wow/
END:VEVENT
BEGIN:VEVENT
DTSTART;VALUE=DATE:20180609
DTEND;VALUE=DATE:20180611
DTSTAMP:20260421T112421
CREATED:20180502T183225Z
LAST-MODIFIED:20180502T183225Z
UID:2437-1528502400-1528675199@anishinabek.ca
SUMMARY:Henvey Inlet First Nation 14th Annual Traditional Pow-Wow
DESCRIPTION:Theme: Honouring our Drummers and Dancers\, Past\, Present and Future \nLocated: 40 mins South of Sudbury along Hwy 69 @ Pickerel River Rd Turnoff\, Approx 1 Hour North of Parry Sound (Look for the Pow-wow signs) \nGrand Entry: SAT 12:00 pm/ 7:00 pm and SUN 1:00pm \nFeast: Saturday 5:00 pm \nHost Drum: Young Eagle \nCo-Host Drum: Black Bull Moose \nGuest invite drum: Lake of the Woods Singers \nM.C.:  Paul Owl \nStickman: Robert Stoneypoint \nHead dancers: Chance King\, Danielle Jones \nThis is a Drug and Alcohol Free Event \nContact Information: Head Coordinator Kimberly McQuabbie at kmcquabbie@gmail.com (705)857-2331 \nor visit our Facebook page Henvey 2018 Pow wow
URL:https://anishinabek.ca/event/henvey-inlet-first-nation-14th-annual-traditional-pow-wow/
END:VEVENT
BEGIN:VEVENT
DTSTART;VALUE=DATE:20180609
DTEND;VALUE=DATE:20180611
DTSTAMP:20260421T112421
CREATED:20180502T183309Z
LAST-MODIFIED:20180502T183309Z
UID:2439-1528502400-1528675199@anishinabek.ca
SUMMARY:Smith Falls Traditional annual Pow-Wow
DESCRIPTION:Location: Duck Island\, Smith Falls ON \nRegistrations: Gates open 10 am Sat and Sun \nGrand Entry: Sat 12pm and 6pm; sun 12pm  \nFeast: Community Bison Feast Sat 5pm  \nHost Drum: Bear Nation \nMC: Greg Dreaver \nMale Head Dancer: Awema Tendesi from Kitigan Zibi \nFemale Head Dancer: Josee Bourgeois of Pikwakanagan First Nation \nFor more information please contact: Megan Mcilvenna at mmcilvenna@smithfalls.ca
URL:https://anishinabek.ca/event/smith-falls-traditional-annual-pow-wow/
END:VEVENT
BEGIN:VEVENT
DTSTART;VALUE=DATE:20180609
DTEND;VALUE=DATE:20180611
DTSTAMP:20260421T112421
CREATED:20180502T183420Z
LAST-MODIFIED:20180502T183420Z
UID:2441-1528502400-1528675199@anishinabek.ca
SUMMARY:North Bay Indian Friendship Centre's Maamwi Kindaaswin Pow- Wow Celebration
DESCRIPTION:“Celebrating our Families” \nGrand-Entry: Saturday: 12pm & 7pm; Sunday: 12pm \nFEAST: Sat 5pm \nLocation: Lee Park. 800 Memorial Dr. North Bay\, ON \nHost drum: High Ridge \nCo-host drum: North Bay Singers \nMC: Gary Dokis \nHead Veteran: Phillip Moore \nArena Director: Roger Assiniwe \nHead Elders: Larry McLeod \nAdult Female Dancer: Katherine Sarazin \nYouth Male Dancer: Ned Benson \nDaily Honorariums for registered Dancers-First 4 Registered Drums will receive an Honourarium of $500 (minimum 5 Singers) \nEveryone Welcome-Bring a chair! \nDRUG & ALCOHOL FREE EVENT-Designated Smoking Area- NO Pets! \nWater Stations will be available-Bring your own bottle! \nMaamwi Kindaaswin Festival will not be responsible for injuries\, theft\, damages\, or any other liability associated with the festival. \nPlease be advised there is no camping at the Pow-Wow Grounds. \nVendors:  Authentic Native Craft Vendors ONLY & Food Vendors-Please 705-472-2811. Simon ext. 220 or Serena ext. 227 \nAdmission:  FREE Event \nContact:  Jen Seguin at 705-472-2811 ext.222 or Dan Desrochers at ext.216 \nEmails:  akwego2@nbifc.org or kizhaay@nbifc.org \n 
URL:https://anishinabek.ca/event/north-bay-indian-friendship-centres-maamwi-kindaaswin-pow-wow-celebration-2/
END:VEVENT
BEGIN:VEVENT
DTSTART;VALUE=DATE:20180615
DTEND;VALUE=DATE:20180618
DTSTAMP:20260421T112421
CREATED:20180502T183502Z
LAST-MODIFIED:20180502T183502Z
UID:2443-1529020800-1529279999@anishinabek.ca
SUMMARY:Rainy River First Nations Traditional Pow-wow
DESCRIPTION:Location: Emo\, ON: Hwy 11 and Hwy 71 Junction \nGrand Entry: Fri 7pm warm-ups; Sat and Sun 1pm and 7pm  \nAdmission: FREE \nSpecial Event: Friday evening Princess and Brave Pagents 7 pm  \nPlease no Drugs\, Alcohol or Pets (unless service pets) \nContact Rainy River First Nations Pow-wow Coordinator: (807)482-2479
URL:https://anishinabek.ca/event/rainy-river-first-nations-traditional-pow-wow/
END:VEVENT
BEGIN:VEVENT
DTSTART;VALUE=DATE:20180616
DTEND;VALUE=DATE:20180618
DTSTAMP:20260421T112421
CREATED:20180502T183717Z
LAST-MODIFIED:20180502T183717Z
UID:2447-1529107200-1529279999@anishinabek.ca
SUMMARY:Buzwa Traditional Pow-wow
DESCRIPTION:Location: Thunderbird Ball park; 18A Kaboni Rd. Wiikwemkoong Unceded Territory. \nGrand Entry: Sat 12 pm and 7 pm: Sun 12 pm \nAdmission: Free \nVendors: Aboriginal Vendors only please \nDisclaimer/ Declarations: Absolutely no drugs or alcohol\, no pets.  Pow-wow committee is not responsible for any lost or stolen items\, or any accidents or injuries \nFor more information contact: (705)859 – 2385
URL:https://anishinabek.ca/event/buzwa-traditional-pow-wow/
END:VEVENT
BEGIN:VEVENT
DTSTART;VALUE=DATE:20180616
DTEND;VALUE=DATE:20180618
DTSTAMP:20260421T112421
CREATED:20180502T183807Z
LAST-MODIFIED:20180502T183807Z
UID:2449-1529107200-1529279999@anishinabek.ca
SUMMARY:Sheshegwaning 24th Annual Traditional Pow-wow
DESCRIPTION:Theme: Water \nLocation:  Sheshegwaning Pow-wow Grounds\, In the community next to skating rink\, Sheshegwaning\, ON \nDirections: Hwy# 540 \nGrand Entry: SAT. 11:00 & 7:00 pm; SUN. 11:00am \nAdmission: Free Admission \nContact: Loretta Roy 705-283-3292 \nEmail: lorettaroy@sheshegwaning.org
URL:https://anishinabek.ca/event/sheshegwaning-24th-annual-traditional-pow-wow/
END:VEVENT
BEGIN:VEVENT
DTSTART;VALUE=DATE:20180621
DTEND;VALUE=DATE:20180622
DTSTAMP:20260421T112421
CREATED:20180502T184028Z
LAST-MODIFIED:20180502T184028Z
UID:2453-1529539200-1529625599@anishinabek.ca
SUMMARY:Na-Me-Res Traditional Pow-Wow
DESCRIPTION:Location:  Fort York National Historic Site-250 Fort York Blvd. Toronto\,ON \nAdmission:  FREE\,  Everyone welcome! \nGrand Entry 12:00 noon \nDancer registration: 10 am \nFlags retire at 4pm followed by a Feast at 5pm \nOnly the first five uninvited drums will be allowed to setup due to minimum amount of time and space available \nFor more information contact Blanch White 416-651-6750 ext. 2233 \nEmail: admin@nameres.org
URL:https://anishinabek.ca/event/na-me-res-traditional-pow-wow/
END:VEVENT
BEGIN:VEVENT
DTSTART;VALUE=DATE:20180623
DTEND;VALUE=DATE:20180625
DTSTAMP:20260421T112421
CREATED:20180502T183636Z
LAST-MODIFIED:20180502T183636Z
UID:2445-1529712000-1529884799@anishinabek.ca
SUMMARY:Aamjiwnaang First Nation 57th Annual Pow-Wow
DESCRIPTION:Location: 1972 Virgil Ave.\, Sarnia\, Ontario (Bear Park behind the Community Centre) \nGates Open: 10 am both days \nRegistration closes Saturday 11:45am \nGrand Entry: SAT 12 pm and 6pm\, SUN 12pm \nAdmission Fee:  $8.00 per day ages 6 to 54\, Seniors 55+\, Kids 5 and under are FREE \nALL DANCERS MUST REGISTER IN PERSON for all dance categories including Tiny Tots\, Baby Contest & Specials. \nDance and Drum Contests over $52\,000 in Prizes (All prizes are paid in cash) \nSpecial Declarations: Committee is not responsible for theft\, accidents\, lodging\, inclement weather or lack of travelling funds. ABSOLUTELY NO DRUGS\, ALCOHOL OR PETS ALLOWED ON THE PREMISES.  Rough camping and showers available. \nContact: Tracy Williams at twilliams@aamjiwnaang.ca or Tanya Williams at tanya.williams@aamjiwnaang.ca or 519-336-8410
URL:https://anishinabek.ca/event/aamjiwnaang-first-nation-57th-annual-pow-wow/
END:VEVENT
BEGIN:VEVENT
DTSTART;VALUE=DATE:20180623
DTEND;VALUE=DATE:20180625
DTSTAMP:20260421T112421
CREATED:20180502T183943Z
LAST-MODIFIED:20180502T183943Z
UID:2451-1529712000-1529884799@anishinabek.ca
SUMMARY:Summer Solstice Aboriginal Festival Competition Pow-wow
DESCRIPTION:Location: Vincent Massey Park\, Riverside Dr at Heron Rd.  Ottawa\, ON \nAdmission: FREE \nGrand Entry: Sat 12pm & 6 pm; Sun 12pm \nHead Veteran: Preston E. Tonepahhote \nHost Drum: Black Stone Singers \nMC: William Constant \nCo MC: Wesley King \nArena Director: TBD \nHead dancers will be chosen per session \nFriday night specials TBA \nBoth Drum and Dance competitions \nC&T tabulating (points start Sat June 23) \nRegistration closes 11:30am Saturday in lieu of Drum Roll Call at 11:45am \nNo on-site camping available \nPow-wow Coordinator: Dale Matasawagon Email: Powwow@ottawasummersolstice.ca \nVendor information: registrations@ottawasummersolstice.ca \nPlease no alcohol or drugs and Service Pets only \nWebsite: www.ottawasummersolstice.ca or call: (613)383-5558
URL:https://anishinabek.ca/event/summer-solstice-aboriginal-festival-competition-pow-wow/
END:VEVENT
BEGIN:VEVENT
DTSTART;VALUE=DATE:20180630
DTEND;VALUE=DATE:20180702
DTSTAMP:20260421T112421
CREATED:20180502T184205Z
LAST-MODIFIED:20180502T184205Z
UID:2455-1530316800-1530489599@anishinabek.ca
SUMMARY:Dokis First Nation 18th Annual Traditional Pow-Wow
DESCRIPTION:Location: Dokis First Nation Pow- wow Grounds \nGrand Entry: Saturday 12:00PM & 7:00PM; Sunday 12:00PM \nFeast: Sat 5pm  \nSunrise Ceremony: 5:30AM Saturday & Sunday \nDaily Honourariums for registered Dancers – Registered Drums with minimum 5 singers will receive an honorarium of $400 – All Singers and Dancers must register daily to be eligible for honourarium. \nAuthentic Native Craft Vendors only: $100.00 weekend \nFood Vendors: $200.00 for weekend (no electricity or water) \nMust be paid in full by Saturday June 30 at 3:00PM \nSPECIALS \nMen’s Traditional Special (18+) Sponsored by Head male dancer \nPotato Dance Special – Home of the Potato Dance Champions; Sponsored by the Restoule Sisters \nPrize: $50.00 & Certificates \nAll Ages Welcome – No registration required \nMiss Okikendawt Pageant 2018 \nYou must be out going\, fun\, respectable\, honest\, and a role model for Dokis First Nation. You do not need to be a member of Dokis First Nation\, however\, relationship to and community knowledge of Dokis First Nation is an asset. Promote Dokis First Nation in the best way you can by attending pow wows\, workshops\, speaking engagements\, meeting with media\, etc. For more information\, please Contact: Nathalie Restoule via Facebook or email natrestoule@gmail.com \nPARKING: Please follow signs and park in designated areas – No camping allowed in parking; RV’s permitted. \nCAMPING: Please camp in designated areas; rough camping. No camping will be allowed in designated parking area. In the event there is a fire ban\, please follow instruction accordingly.  Absolutely NO alcohol or drugs – No Pets! \nDokis Cultural Committee will not be responsible for any injuries\, theft\, damages or any other liability associated with the pow- wow. \nCONTACT: Paige Restoule 705-494-0912 and/or Gwen Dokis 705-763-2112
URL:https://anishinabek.ca/event/dokis-first-nation-18th-annual-traditional-pow-wow/
END:VEVENT
BEGIN:VEVENT
DTSTART;VALUE=DATE:20180630
DTEND;VALUE=DATE:20180702
DTSTAMP:20260421T112421
CREATED:20180502T184340Z
LAST-MODIFIED:20180502T184340Z
UID:2457-1530316800-1530489599@anishinabek.ca
SUMMARY:Beausoleil First Nation
DESCRIPTION:Island in the Sun Annual Pow-wow \nLocation: Christian Island Pow-wow Grounds  \n12 PM Grand Entry (both days) \n7 PM Grand Entry on Saturday \nSunrise Ceremony on Saturday Morning \nVendors Welcome \nRough Camping available \nContact Owen via phone: 705-247-2912 \nWebsite: www.chimnissing.ca
URL:https://anishinabek.ca/event/beausoleil-first-nation/
END:VEVENT
BEGIN:VEVENT
DTSTART;VALUE=DATE:20180630
DTEND;VALUE=DATE:20180702
DTSTAMP:20260421T112421
CREATED:20180502T184448Z
LAST-MODIFIED:20180502T184448Z
UID:2459-1530316800-1530489599@anishinabek.ca
SUMMARY:Little River Band 23rd Annual Traditional Jiingtamok
DESCRIPTION:Location: Tribal Gathering Grounds\, 2608 Government Center Drive Manistee\, Michigan 49660 \nTraditional Pow-Wow with some dance and drum specials \nGrand Entry: SAT 1:00 pm & 7pm; SUN 12:00 pm \nNo Admission or Parking Fees \nBleacher seating available\, however feel free to bring your own chair \nNative American Art\, Craft and Food Vendors \nDeclaration: Please No Alcohol\, Drugs\, Weapons or Pets (unless they are Service Pets) \nContact: Jay Sam 231-398-6893 or Kenny Pheasant 231-398-6892 \nEmail: jsam@lrboi-nsn.gov or kpheasant@lrboi-nsn.gov \nWebsite: www.lrboi-nsn.gov
URL:https://anishinabek.ca/event/little-river-band-23rd-annual-traditional-jiingtamok/
END:VEVENT
BEGIN:VEVENT
DTSTART;VALUE=DATE:20180630
DTEND;VALUE=DATE:20180702
DTSTAMP:20260421T112421
CREATED:20180502T184537Z
LAST-MODIFIED:20180502T184537Z
UID:2461-1530316800-1530489599@anishinabek.ca
SUMMARY:Munsee-Delaware Nation Pow-wow and Traditional Gathering
DESCRIPTION:Location:  289 Jubilee Dr\, Munsee\, ON \nGrand Entry: 12 pm both days \nFamily Event with Free Admission \nVendors: Craft Vendors $100; Food vendors $200 for weekend(incl Sat and Sun) \nRough Camping is available. Showers at the community centre \nDeclaration: No Alcohol\, No Drugs and No Pets please.  No Audio or Video recording allowed. \nContact: Debbie Richter 519 289 5396 ext 234
URL:https://anishinabek.ca/event/munsee-delaware-nation-pow-wow-and-traditional-gathering/
END:VEVENT
END:VCALENDAR